BEGIN:VCALENDAR
VERSION:2.0
PRODID:-//Connecticut Convention Center - ECPv6.15.17//NONSGML v1.0//EN
CALSCALE:GREGORIAN
METHOD:PUBLISH
X-ORIGINAL-URL:https://www.ctconventions.com
X-WR-CALDESC:Events for Connecticut Convention Center
REFRESH-INTERVAL;VALUE=DURATION:PT1H
X-Robots-Tag:noindex
X-PUBLISHED-TTL:PT1H
BEGIN:VTIMEZONE
TZID:UTC
BEGIN:STANDARD
TZOFFSETFROM:+0000
TZOFFSETTO:+0000
TZNAME:UTC
DTSTART:20180101T000000
END:STANDARD
END:VTIMEZONE
BEGIN:VEVENT
DTSTART;TZID=UTC:20190429T080000
DTEND;TZID=UTC:20190430T170000
DTSTAMP:20260422T161752
CREATED:20190416T003508Z
LAST-MODIFIED:20190416T003508Z
UID:9175-1556524800-1556643600@www.ctconventions.com
SUMMARY:SNEC-PMI Conference & Workshops - Passion and Power of Project Management
DESCRIPTION:An event that will reignite your passion for project management and give you the power to move forward in your career! A day and a half of professional development for those engaged in the project management profession or those who wish to learn more about it. Learn the latest tools and techniques in the profession. Network with other project management professionals from our region.
URL:https://www.ctconventions.com/event/snec-pmi-conference-workshops-passion-and-power-of-project-management/
LOCATION:Connecticut Convention Center\, 100 Columbus Blvd\, Hartford\, CT\, 06103\, United States
CATEGORIES:Conference,Workshop
ATTACH;FMTTYPE=image/png:https://www.ctconventions.com/wp-content/uploads/2019/04/SNEC-Passion-Power-252.png
END:VEVENT
END:VCALENDAR