BEGIN:VCALENDAR
VERSION:2.0
PRODID:-//Connecticut Convention Center - ECPv6.15.17//NONSGML v1.0//EN
CALSCALE:GREGORIAN
METHOD:PUBLISH
X-ORIGINAL-URL:https://www.ctconventions.com
X-WR-CALDESC:Events for Connecticut Convention Center
REFRESH-INTERVAL;VALUE=DURATION:PT1H
X-Robots-Tag:noindex
X-PUBLISHED-TTL:PT1H
BEGIN:VTIMEZONE
TZID:UTC
BEGIN:STANDARD
TZOFFSETFROM:+0000
TZOFFSETTO:+0000
TZNAME:UTC
DTSTART:20180101T000000
END:STANDARD
END:VTIMEZONE
BEGIN:VEVENT
DTSTART;TZID=UTC:20191120T080000
DTEND;TZID=UTC:20191120T173000
DTSTAMP:20260425T104814
CREATED:20191107T205643Z
LAST-MODIFIED:20191107T205643Z
UID:9491-1574236800-1574271000@www.ctconventions.com
SUMMARY:Aerospace Alley!® "Future WorkForce Opportunities" Fair & Tradeshow
DESCRIPTION:The ACM “Future WorkForce Opportunities” Fair draws over 1000 students to learn about the many career paths available in the local aerospace industry. The ACM Aerospace Alley!® Tradeshow exhibits (100+ exhibitors) the manufacturing and processing capability of ACM member firms in the local aerospace turbine engine and airframe manufacturing sector. ACM is Aerospace Components Manufacturers\, Inc.\, www.aerospacecompoents.org.
URL:https://www.ctconventions.com/event/aerospace-alley-future-workforce-opportunities-fair-tradeshow-2/
LOCATION:Connecticut Convention Center\, 100 Columbus Blvd\, Hartford\, CT\, 06103\, United States
CATEGORIES:Private Event - Registered Attendees Only,Trade Show
ATTACH;FMTTYPE=image/jpeg:https://www.ctconventions.com/wp-content/uploads/2018/10/ACM-Logo-for-Web.jpg
END:VEVENT
END:VCALENDAR