BEGIN:VCALENDAR
VERSION:2.0
PRODID:-//Connecticut Convention Center - ECPv6.15.17//NONSGML v1.0//EN
CALSCALE:GREGORIAN
METHOD:PUBLISH
X-WR-CALNAME:Connecticut Convention Center
X-ORIGINAL-URL:https://www.ctconventions.com
X-WR-CALDESC:Events for Connecticut Convention Center
REFRESH-INTERVAL;VALUE=DURATION:PT1H
X-Robots-Tag:noindex
X-PUBLISHED-TTL:PT1H
BEGIN:VTIMEZONE
TZID:UTC
BEGIN:STANDARD
TZOFFSETFROM:+0000
TZOFFSETTO:+0000
TZNAME:UTC
DTSTART:20160101T000000
END:STANDARD
END:VTIMEZONE
BEGIN:VEVENT
DTSTART;TZID=UTC:20170513T073000
DTEND;TZID=UTC:20170513T123000
DTSTAMP:20260419T105244
CREATED:20170413T001830Z
LAST-MODIFIED:20170413T001907Z
UID:7672-1494660600-1494678600@www.ctconventions.com
SUMMARY:Hartford Healthcare Cancer Institute presents: Value Based Oncology
DESCRIPTION:This symposium will provide critical insight into the discussions that are happening today around value-based medicine as it relates to cancer care delivery in the U.S. Economic value models that incorporate patient values\, change management for oncologists adjusting to new priorities in clinical care and models of data sharing and collaborative quality improvements will be presented.
URL:https://www.ctconventions.com/event/value-based-oncology/
LOCATION:Connecticut Convention Center\, 100 Columbus Blvd\, Hartford\, CT\, 06103\, United States
CATEGORIES:Private Event - Registered Attendees Only,Symposium
ATTACH;FMTTYPE=image/png:https://www.ctconventions.com/wp-content/uploads/2017/04/Hartford-Healthcare-Cancer-Institute.png
END:VEVENT
END:VCALENDAR