BEGIN:VCALENDAR
VERSION:2.0
PRODID:-//Connecticut Convention Center - ECPv6.15.17//NONSGML v1.0//EN
CALSCALE:GREGORIAN
METHOD:PUBLISH
X-ORIGINAL-URL:https://www.ctconventions.com
X-WR-CALDESC:Events for Connecticut Convention Center
REFRESH-INTERVAL;VALUE=DURATION:PT1H
X-Robots-Tag:noindex
X-PUBLISHED-TTL:PT1H
BEGIN:VTIMEZONE
TZID:UTC
BEGIN:STANDARD
TZOFFSETFROM:+0000
TZOFFSETTO:+0000
TZNAME:UTC
DTSTART:20230101T000000
END:STANDARD
END:VTIMEZONE
BEGIN:VEVENT
DTSTART;TZID=UTC:20240418T110000
DTEND;TZID=UTC:20240418T140000
DTSTAMP:20260420T165751
CREATED:20240409T183938Z
LAST-MODIFIED:20240409T183952Z
UID:10847-1713438000-1713448800@www.ctconventions.com
SUMMARY:In the Company of Women Luncheon: From the Sidelines to the Headlines: Equity In Motion
DESCRIPTION:In the Company of Women is YWCA Hartford Region’s signature fundraising event. Since 1996\, we’ve invited inspirational speakers to share their inspirational stories and lift women\, girls and families. The event has grown to become the state’s largest networking event\, bringing together business and community leaders\, public officials and our program participants to celebrate and advance our work supporting women\, girls and families in the Hartford Region. \nTicket Information\nFor tickets click here. \nSocial Media\nFacebook: @YWCAHartfordRegion\nTwitter: @ywcahartford\nInstagram: @ywca-hartford-region
URL:https://www.ctconventions.com/event/in-the-company-of-women-luncheon-from-the-sidelines-to-the-headlines-equity-in-motion/
LOCATION:Connecticut Convention Center\, 100 Columbus Blvd\, Hartford\, CT\, 06103\, United States
CATEGORIES:Private Event - Registered Attendees Only
ATTACH;FMTTYPE=image/jpeg:https://www.ctconventions.com/wp-content/uploads/2024/04/YWCA-2024-Invitation-Luncheon-updated-WOW.jpg
END:VEVENT
END:VCALENDAR