BEGIN:VCALENDAR
VERSION:2.0
PRODID:-//Connecticut Convention Center - ECPv6.15.17//NONSGML v1.0//EN
CALSCALE:GREGORIAN
METHOD:PUBLISH
X-WR-CALNAME:Connecticut Convention Center
X-ORIGINAL-URL:https://www.ctconventions.com
X-WR-CALDESC:Events for Connecticut Convention Center
REFRESH-INTERVAL;VALUE=DURATION:PT1H
X-Robots-Tag:noindex
X-PUBLISHED-TTL:PT1H
BEGIN:VTIMEZONE
TZID:UTC
BEGIN:STANDARD
TZOFFSETFROM:+0000
TZOFFSETTO:+0000
TZNAME:UTC
DTSTART:20230101T000000
END:STANDARD
END:VTIMEZONE
BEGIN:VEVENT
DTSTART;VALUE=DATE:20240308
DTEND;VALUE=DATE:20240310
DTSTAMP:20260420T225210
CREATED:20240221T234615Z
LAST-MODIFIED:20240221T234819Z
UID:10799-1709856000-1710028799@www.ctconventions.com
SUMMARY:2024 SNEMN YouthCon
DESCRIPTION:Registration is open for our upcoming Youth Convention taking place on March 8-9\, 2023 at the Connecticut Convention Center in Hartford\, CT. This is a great way for Junior High and High School students to draw near to God in a high energy\, Gospel-centered\, Spirit-empowered environment. Youth Pastors often share how this event ignites a passion for Christ that then is brought back to their Youth groups. It is an opportunity for students to engage in corporate worship\, challenging biblical messages and develop like-minded friendships with other students from the region. \nEvent Date & Times\nFriday March 8th (8am-11pm) – Main event starts at 7pm – Doors open all day\nSaturday March 9th (9am-4pm) \nTicket Information\nTicket prices: $95 per person\nRegistration available on our website. Click here. \nSocial Media\nFacebook: SNENEXTGEN\nInstagram: snenextgen\nEvent Hashtag: #SNEYOUTHCON24
URL:https://www.ctconventions.com/event/2024-snemn-youthcon/
LOCATION:Connecticut Convention Center\, 100 Columbus Blvd\, Hartford\, CT\, 06103\, United States
CATEGORIES:Private Event - Registered Attendees Only
ATTACH;FMTTYPE=image/jpeg:https://www.ctconventions.com/wp-content/uploads/2024/02/SNE-Youth-Conference.jpg
END:VEVENT
BEGIN:VEVENT
DTSTART;VALUE=DATE:20240322
DTEND;VALUE=DATE:20240325
DTSTAMP:20260420T225210
CREATED:20240302T012518Z
LAST-MODIFIED:20240302T012547Z
UID:10821-1711065600-1711324799@www.ctconventions.com
SUMMARY:Tabletop Utopia: Spring 2024
DESCRIPTION:Tabletop Utopia is a convention for anyone who enjoys board games and tabletop roleplaying games. With a library of nearly 200 board games to borrow from\, Game Hosts will be available to teach\, run\, and play games with those who haven’t played before over a wide selection of scheduled game sessions.  \nEvent Dates & Times\nFriday\, March 22nd: 8am-1:30am\nSaturday\, March 23rd: 8am-1:30am\nSunday\, March 24th: 8am-7pm \nTicket Information\nFor tickets please click here.
URL:https://www.ctconventions.com/event/tabletop-utopia-spring-2024/
LOCATION:Connecticut Convention Center\, 100 Columbus Blvd\, Hartford\, CT\, 06103\, United States
CATEGORIES:Private Event - Registered Attendees Only,Public Show
ATTACH;FMTTYPE=image/png:https://www.ctconventions.com/wp-content/uploads/2024/03/ConnectiCon-Rebrand-TTU.png
END:VEVENT
BEGIN:VEVENT
DTSTART;TZID=UTC:20240322T080000
DTEND;TZID=UTC:20240322T130000
DTSTAMP:20260420T225210
CREATED:20240223T002250Z
LAST-MODIFIED:20240223T002955Z
UID:10811-1711094400-1711112400@www.ctconventions.com
SUMMARY:InspireMe Latina Summit: Cultivating and Celebrating Our Brilliance
DESCRIPTION:Our Annual Women’s Summit is Here…. InspireMe Latina Summit! Join us as we bring inspiring leaders and experts together to heal\, elevate and uplife our mothers\, daughters\, sisters\, and friends\, creating a thriving community where we are finally feeling seen and heard. We’re pumped for this year! It’s going to be even better than last year-we’re on fire… You cannot afford to miss it! Join us to learn the secret playbook on how to transform your life and business from good to AMAZING! And the best part? We’ll be celebrating women’s brilliance and feeling like a million bucks! Get ready for an unforgettable experience. \nTicket Information\nTo register click here. \nSocial Media\nFacebook: @Inspirame Latina Foundation \nInstagram: @InspirameLatina\nEvent Hashtag: #InspireMeLatina2024
URL:https://www.ctconventions.com/event/inspireme-latina-summit-cultivating-and-celebrating-our-brilliance/
LOCATION:Connecticut Convention Center\, 100 Columbus Blvd\, Hartford\, CT\, 06103\, United States
CATEGORIES:Private Event - Registered Attendees Only
ATTACH;FMTTYPE=image/png:https://www.ctconventions.com/wp-content/uploads/2024/02/Group-Graphics.png
END:VEVENT
END:VCALENDAR