BEGIN:VCALENDAR
VERSION:2.0
PRODID:-//Connecticut Convention Center - ECPv6.15.17//NONSGML v1.0//EN
CALSCALE:GREGORIAN
METHOD:PUBLISH
X-WR-CALNAME:Connecticut Convention Center
X-ORIGINAL-URL:https://www.ctconventions.com
X-WR-CALDESC:Events for Connecticut Convention Center
REFRESH-INTERVAL;VALUE=DURATION:PT1H
X-Robots-Tag:noindex
X-PUBLISHED-TTL:PT1H
BEGIN:VTIMEZONE
TZID:UTC
BEGIN:STANDARD
TZOFFSETFROM:+0000
TZOFFSETTO:+0000
TZNAME:UTC
DTSTART:20220101T000000
END:STANDARD
END:VTIMEZONE
BEGIN:VEVENT
DTSTART;VALUE=DATE:20230713
DTEND;VALUE=DATE:20230717
DTSTAMP:20260423T120136
CREATED:20230612T192523Z
LAST-MODIFIED:20230612T192523Z
UID:10542-1689206400-1689551999@www.ctconventions.com
SUMMARY:Elevate - International Leadership Conference
DESCRIPTION:The 28th Elevate will take place in Hartford CT on July 13-16\, 2023. Elevate serves as the Fraternity’s annual summer event that brings undergraduate\, alumni\, and guests together to celebrate the year that was and unofficially kick off the academic year ahead. 
URL:https://www.ctconventions.com/event/elevate-international-leadership-conference/
LOCATION:Connecticut Convention Center\, 100 Columbus Blvd\, Hartford\, CT\, 06103\, United States
CATEGORIES:Private Event - Registered Attendees Only
ATTACH;FMTTYPE=image/jpeg:https://www.ctconventions.com/wp-content/uploads/2023/06/Elevate-LOGO-CTC.jpg
END:VEVENT
END:VCALENDAR