BEGIN:VCALENDAR
VERSION:2.0
PRODID:-//Connecticut Convention Center - ECPv6.15.17//NONSGML v1.0//EN
CALSCALE:GREGORIAN
METHOD:PUBLISH
X-ORIGINAL-URL:https://www.ctconventions.com
X-WR-CALDESC:Events for Connecticut Convention Center
REFRESH-INTERVAL;VALUE=DURATION:PT1H
X-Robots-Tag:noindex
X-PUBLISHED-TTL:PT1H
BEGIN:VTIMEZONE
TZID:UTC
BEGIN:STANDARD
TZOFFSETFROM:+0000
TZOFFSETTO:+0000
TZNAME:UTC
DTSTART:20220101T000000
END:STANDARD
END:VTIMEZONE
BEGIN:VEVENT
DTSTART;TZID=UTC:20230329T120000
DTEND;TZID=UTC:20230329T140000
DTSTAMP:20260423T180143
CREATED:20230225T022513Z
LAST-MODIFIED:20230307T214009Z
UID:10389-1680091200-1680098400@www.ctconventions.com
SUMMARY:Greater Hartford Go Red for Women Luncheon
DESCRIPTION:The American Heart Association will host its Greater Hartford Go Red for Women Luncheon on Wednesday\, March 29th at the Connecticut Convention Center. The Go Red for Women Luncheon is designed to raise awareness about cardiovascular disease\, the leading cause of death for women in Connecticut\, as well as generate funds for lifesaving research for women. The signature women focused event will feature a keynote speaker\, inspirational speaker\, silent auction and heart healthy lunch.
URL:https://www.ctconventions.com/event/greater-hartford-go-red-for-women-luncheon-2/
LOCATION:Connecticut Convention Center\, 100 Columbus Blvd\, Hartford\, CT\, 06103\, United States
CATEGORIES:Private Event - Registered Attendees Only
ATTACH;FMTTYPE=image/png:https://www.ctconventions.com/wp-content/uploads/2023/02/AHA_GRFW_LOGO2.png
END:VEVENT
END:VCALENDAR