BEGIN:VCALENDAR
VERSION:2.0
PRODID:-//Connecticut Convention Center - ECPv6.15.17//NONSGML v1.0//EN
CALSCALE:GREGORIAN
METHOD:PUBLISH
X-ORIGINAL-URL:https://www.ctconventions.com
X-WR-CALDESC:Events for Connecticut Convention Center
REFRESH-INTERVAL;VALUE=DURATION:PT1H
X-Robots-Tag:noindex
X-PUBLISHED-TTL:PT1H
BEGIN:VTIMEZONE
TZID:UTC
BEGIN:STANDARD
TZOFFSETFROM:+0000
TZOFFSETTO:+0000
TZNAME:UTC
DTSTART:20210101T000000
END:STANDARD
END:VTIMEZONE
BEGIN:VEVENT
DTSTART;VALUE=DATE:20221118
DTEND;VALUE=DATE:20221121
DTSTAMP:20260424T002933
CREATED:20221117T202009Z
LAST-MODIFIED:20221117T202500Z
UID:10304-1668729600-1668988799@www.ctconventions.com
SUMMARY:2022 New England Oireachtas
DESCRIPTION:Click here for the concessions menu: \nIrish Dance Concessions Menu
URL:https://www.ctconventions.com/event/2022-new-england-oireachtas/
LOCATION:Connecticut Convention Center\, 100 Columbus Blvd\, Hartford\, CT\, 06103\, United States
CATEGORIES:Private Event - Registered Attendees Only
ATTACH;FMTTYPE=image/png:https://www.ctconventions.com/wp-content/uploads/2022/11/New-England-Oireachtas.png
END:VEVENT
END:VCALENDAR