BEGIN:VCALENDAR
VERSION:2.0
PRODID:-//Connecticut Convention Center - ECPv6.15.17//NONSGML v1.0//EN
CALSCALE:GREGORIAN
METHOD:PUBLISH
X-ORIGINAL-URL:https://www.ctconventions.com
X-WR-CALDESC:Events for Connecticut Convention Center
REFRESH-INTERVAL;VALUE=DURATION:PT1H
X-Robots-Tag:noindex
X-PUBLISHED-TTL:PT1H
BEGIN:VTIMEZONE
TZID:UTC
BEGIN:STANDARD
TZOFFSETFROM:+0000
TZOFFSETTO:+0000
TZNAME:UTC
DTSTART:20210101T000000
END:STANDARD
END:VTIMEZONE
BEGIN:VEVENT
DTSTART;VALUE=DATE:20221017
DTEND;VALUE=DATE:20221020
DTSTAMP:20260424T021156
CREATED:20220614T202203Z
LAST-MODIFIED:20220714T221606Z
UID:10193-1665964800-1666223999@www.ctconventions.com
SUMMARY:Trauma & Recovery Conference
DESCRIPTION:The Connecticut Women’s Consortium’s Trauma & Recovery Conference aims to explore the realities of trauma as it manifests through individual and community experiences whilst simultaneously acknowledging the multiple pathways to recovery. With a combination of national and local keynote and breakout session presenters\, we strive to push the boundaries of traditional trauma treatment and expand the definition of recovery\, creating comprehensive\, inclusive systems of care. Join us at our bi-annual conference\, as we seek to promote evidence-based solutions for the many people across the world struggling with the effect of trauma and searching for recovery.
URL:https://www.ctconventions.com/event/trauma-recovery-conference/
LOCATION:Connecticut Convention Center\, 100 Columbus Blvd\, Hartford\, CT\, 06103\, United States
CATEGORIES:Private Event - Registered Attendees Only
ATTACH;FMTTYPE=image/png:https://www.ctconventions.com/wp-content/uploads/2022/06/CT-Womens-Consortium.png
END:VEVENT
BEGIN:VEVENT
DTSTART;TZID=UTC:20221025T180000
DTEND;TZID=UTC:20221025T220000
DTSTAMP:20260424T021156
CREATED:20221025T003621Z
LAST-MODIFIED:20221025T003716Z
UID:10269-1666720800-1666735200@www.ctconventions.com
SUMMARY:Connecticut Cannabis Company Conference
DESCRIPTION:Cannabis Industry Networking Conference at The Connecticut Convention Center \nJoin us for Cannabis Networking Conference on Thursday October 25th\, 2022\, from 6-10 PM\, at\nThe Connecticut Convention Center at 100 Columbus Blvd. Hartford\, CT \nProfessional Cannabis B2B networking with Highlighted speaker panel\, elevated networking\, and\nlight appetizers. Event to empower local business owners in the Cannabis Industry. Network with\npurpose. Empower and support local companies and their efforts in the Cannabis community to\nmake a difference! Meet likeminded professionals making an impact\, reducing stigma\, and raising\nawareness within the community. \nSupporting Efforts: Canna Management LLC\, Massachusetts Cannabis Company\, Triton\nTechnologies\, Norwich Public Utilities\, Norwich Community Development Corporation\, Rank\nReally High\, Patrick Rogers Photography\, and more to be announced. \nFor tickets click the link below: \nTickets for Cannabis Industry Networking Conference
URL:https://www.ctconventions.com/event/connecticut-cannabis-company-conferance/
LOCATION:Connecticut Convention Center\, 100 Columbus Blvd\, Hartford\, CT\, 06103\, United States
CATEGORIES:Private Event - Registered Attendees Only
ATTACH;FMTTYPE=image/png:https://www.ctconventions.com/wp-content/uploads/2022/10/10_25_22-CT-Cannabis-Company-Conference.png
END:VEVENT
BEGIN:VEVENT
DTSTART;VALUE=DATE:20221027
DTEND;VALUE=DATE:20221030
DTSTAMP:20260424T021156
CREATED:20221013T223408Z
LAST-MODIFIED:20221013T223408Z
UID:10261-1666828800-1667087999@www.ctconventions.com
SUMMARY:NACA Hartford
DESCRIPTION:Get ready to make meaningful connections at NACA Hartford this fall. Remember\, under the new NACA Conference model announced earlier this year\, members can attend the conference that best fits their calendars\, travel needs\, and budgets regardless of their regional affiliation. Registration\, hotel\, showcasing\, and education session submissions information now available!
URL:https://www.ctconventions.com/event/naca-hartford/
LOCATION:Connecticut Convention Center\, 100 Columbus Blvd\, Hartford\, CT\, 06103\, United States
CATEGORIES:Private Event - Registered Attendees Only
ATTACH;FMTTYPE=image/png:https://www.ctconventions.com/wp-content/uploads/2022/10/NACA_Hartford_2021_Color-web.png
END:VEVENT
END:VCALENDAR