BEGIN:VCALENDAR
VERSION:2.0
PRODID:-//Connecticut Convention Center - ECPv6.15.17//NONSGML v1.0//EN
CALSCALE:GREGORIAN
METHOD:PUBLISH
X-WR-CALNAME:Connecticut Convention Center
X-ORIGINAL-URL:https://www.ctconventions.com
X-WR-CALDESC:Events for Connecticut Convention Center
REFRESH-INTERVAL;VALUE=DURATION:PT1H
X-Robots-Tag:noindex
X-PUBLISHED-TTL:PT1H
BEGIN:VTIMEZONE
TZID:UTC
BEGIN:STANDARD
TZOFFSETFROM:+0000
TZOFFSETTO:+0000
TZNAME:UTC
DTSTART:20200101T000000
END:STANDARD
END:VTIMEZONE
BEGIN:VEVENT
DTSTART;TZID=UTC:20211022T083000
DTEND;TZID=UTC:20211022T163000
DTSTAMP:20260424T214337
CREATED:20211004T174634Z
LAST-MODIFIED:20211004T174634Z
UID:9944-1634891400-1634920200@www.ctconventions.com
SUMMARY:DCP’s 6th Annual Cross-Cultural Communications Symposium
DESCRIPTION:“Where is the wisdom we have lost in knowledge? Where is the knowledge we have lost in information?”\nt.s. eliot \n\nData is information. It is used to determine insurance and health care coverage\, educational initiatives\, housing\, advertising\, how roads are designed\, and what pops up on our screens saying “if you like that\, you’ll like this.” We depend on data to craft public policy and inform our\ninstitutional decisions. Nearly all of the choices we make on a daily basis are based on data.  We are told that data doesn’t lie\, but are we sure?  Empirical data points only reflect the finite set of inputs used to generate them\, and most people don’t question what those are. We don’t know if policy is data-driven or data-informed\, and what is the difference? And how does it impact our daily work in community? We hope to create as many questions as answers with this year’s symposium. We hope that by developing data skepticism we can develop data literacy. We will examine the role data play in determining which communities get services\, how race and culture concerns can be subjugated by numbers\, how racial policies that have existed for decades are often rooted in analytical prejudice and bias\, and why the analyses of data is often unexamined. We will also look at how vulnerable communities are further marginalized by a lack of access to culturally appropriate health\, safety and accessibility information. Who determines which communities receive high speed internet? How can every community access culturally appropriate opportunities for civic engagement? Who is not included in data\, and why? But most importantly\, how can we understand the right questions to ask?
URL:https://www.ctconventions.com/event/dcps-6th-annual-cross-cultural-communications-symposium/
LOCATION:Connecticut Convention Center\, 100 Columbus Blvd\, Hartford\, CT\, 06103\, United States
CATEGORIES:Private Event - Registered Attendees Only
ATTACH;FMTTYPE=image/jpeg:https://www.ctconventions.com/wp-content/uploads/2021/10/Symposium-Graphic-002.jpg
END:VEVENT
END:VCALENDAR