BEGIN:VCALENDAR
VERSION:2.0
PRODID:-//Connecticut Convention Center - ECPv6.15.17//NONSGML v1.0//EN
CALSCALE:GREGORIAN
METHOD:PUBLISH
X-WR-CALNAME:Connecticut Convention Center
X-ORIGINAL-URL:https://www.ctconventions.com
X-WR-CALDESC:Events for Connecticut Convention Center
REFRESH-INTERVAL;VALUE=DURATION:PT1H
X-Robots-Tag:noindex
X-PUBLISHED-TTL:PT1H
BEGIN:VTIMEZONE
TZID:UTC
BEGIN:STANDARD
TZOFFSETFROM:+0000
TZOFFSETTO:+0000
TZNAME:UTC
DTSTART:20150101T000000
END:STANDARD
END:VTIMEZONE
BEGIN:VEVENT
DTSTART;TZID=UTC:20180303T180000
DTEND;TZID=UTC:20180303T230000
DTSTAMP:20260421T062543
CREATED:20171013T021339Z
LAST-MODIFIED:20171013T021339Z
UID:8293-1520100000-1520118000@www.ctconventions.com
SUMMARY:Red Cross Ball
DESCRIPTION:The Red Cross Ball is the signature fundraising event for the American Red Cross in Connecticut. Proceeds raised through the ball help to prevent and alleviate human suffering in the face of emergencies. 
URL:https://www.ctconventions.com/event/red-cross-ball-2018/
LOCATION:Connecticut Convention Center – Ballroom Level\, 100 Columbus Blvd.\, Hartford\, CT\, 06103\, United States
CATEGORIES:Gala
ATTACH;FMTTYPE=image/jpeg:https://www.ctconventions.com/wp-content/uploads/2017/02/American-Red-Cross-Ball_Web.jpg
END:VEVENT
BEGIN:VEVENT
DTSTART;TZID=UTC:20171111T180000
DTEND;TZID=UTC:20171111T230000
DTSTAMP:20260421T062543
CREATED:20171004T204523Z
LAST-MODIFIED:20171004T204523Z
UID:8223-1510423200-1510441200@www.ctconventions.com
SUMMARY:Connecticut Children's Medical Center Gala
DESCRIPTION:Connecticut Children’s Medical Center has rolled out the carpet to fly to a whole new world. This year’s gala will transport guests o an exotic Arabian marketplace and palace featuring live musicians\, fortune tellers and a henna tattoo artist. Guests will be amazed by an exhilarating fire performance troupe\, belly dancers and world-renowned mentalist\, Craig Karges. 
URL:https://www.ctconventions.com/event/connecticut-childrens-medical-center-gala/
LOCATION:Connecticut Convention Center-Ballroom\, 100 Columbus Blvd.\, 6th Floor\, Hartford\, CT\, 06103\, United States
CATEGORIES:Gala
ATTACH;FMTTYPE=image/png:https://www.ctconventions.com/wp-content/uploads/2017/10/CCMC_Web-2017.png
END:VEVENT
BEGIN:VEVENT
DTSTART;TZID=UTC:20171028T180000
DTEND;TZID=UTC:20171028T230000
DTSTAMP:20260421T062543
CREATED:20170804T221040Z
LAST-MODIFIED:20171024T212640Z
UID:7858-1509213600-1509231600@www.ctconventions.com
SUMMARY:15th Annual One Big Event
DESCRIPTION:One Big Event is the Hartford Gay & Lesbian Health Collective’s annual fundraiser. Celebrating our 15th year\, it is one of the most popular fundraising events in the area. It is the premier LGBTQ event in Hartford. The evening will consist of cocktails\, dinner\, silent and live auctions and dancing. Formal dress is encouraged. The money raised will support the programs and services that the Health Collective provides to predominately LGBT and HIV/AIDS communities. 
URL:https://www.ctconventions.com/event/15th-annual-one-big-event/
LOCATION:Connecticut Convention Center – Ballroom Level\, 100 Columbus Blvd.\, Hartford\, CT\, 06103\, United States
CATEGORIES:Gala
ATTACH;FMTTYPE=image/jpeg:https://www.ctconventions.com/wp-content/uploads/2017/08/HGLHC-Website-Logo-1.jpg
END:VEVENT
BEGIN:VEVENT
DTSTART;TZID=UTC:20171026T173000
DTEND;TZID=UTC:20171026T210000
DTSTAMP:20260421T062543
CREATED:20170421T234110Z
LAST-MODIFIED:20171013T012244Z
UID:7713-1509039000-1509051600@www.ctconventions.com
SUMMARY:YMCA Celebrates Champions Dinner
DESCRIPTION:YMCA Celebrates Champions is the signature fundraising event for the YMCA of Greater Hartford. Proceeds support Y programs that focus on Youth Development\, Healthy Living and Social Responsibility. The evening will be filled with fun and excitement as the YMCA pays tribute to the Champions in our lives. Enjoy a unique speaker\, great company\, live and silent auctions\, and other special opportunities. \nHonored Guest Andre Tippett\nNFL Hall-of-Famer and one of the Top Five Players for the New England Patriots \n Andre Tippett was drafted by the New England Patriots in the second round of the 1982 NFL draft (41st overall) out of University of Iowa and played 12 seasons for the Patriots. He was a member of NFL 1980s All-Decade Team and earned five consecutive trips to the Pro Bowl. Andre was named to the Patriots Hall of Fame in 1999; inducted into the University of Iowa’s Hall of Fame in 2007; and inducted for Enshrinement for Pro-Football Hall of Fame on August 2\, 2008. \n Not only is Andre Tippett one of the most respected professional athletes in the NFL–a linebacker who played 12 seasons with the New England Patriots – but he is also a man who continues to awe people with his kindness\, sincerity and  enormous devotion to family and faith.
URL:https://www.ctconventions.com/event/ymca-celebrates-champions-dinner/
LOCATION:Connecticut Convention Center – Ballroom Level\, 100 Columbus Blvd.\, Hartford\, CT\, 06103\, United States
CATEGORIES:Gala
ATTACH;FMTTYPE=image/jpeg:https://www.ctconventions.com/wp-content/uploads/2017/04/YMCA-Celebrates-Champions_web.jpg
END:VEVENT
BEGIN:VEVENT
DTSTART;TZID=UTC:20170609T180000
DTEND;TZID=UTC:20170609T220000
DTSTAMP:20260421T062543
CREATED:20170314T002407Z
LAST-MODIFIED:20170314T002407Z
UID:7589-1497031200-1497045600@www.ctconventions.com
SUMMARY:Imagine... The Sky's the Limit 2017
DESCRIPTION:Celebrating the Sisters of Mercy – their legacy and their vision. Dinner\, Dancing\, and Exclusive Silent auction.
URL:https://www.ctconventions.com/event/imagine-the-skys-the-limit-2017/
LOCATION:Connecticut Convention Center-Ballroom\, 100 Columbus Blvd.\, 6th Floor\, Hartford\, CT\, 06103\, United States
CATEGORIES:Gala
END:VEVENT
BEGIN:VEVENT
DTSTART;TZID=UTC:20170429T180000
DTEND;TZID=UTC:20170429T230000
DTSTAMP:20260421T062543
CREATED:20161222T013833Z
LAST-MODIFIED:20170309T010657Z
UID:7259-1493488800-1493506800@www.ctconventions.com
SUMMARY:Hartford Symphony Orchestra - Bravo! Gala 2017
DESCRIPTION:Join The Hartford Symphony Orchestra at one of Hartford’s most dynamic social events for a spectacular evening of dining and entertainment! Proceeds from the Bravo! gala support the HSO’s Education and Community Engagement programs.
URL:https://www.ctconventions.com/event/hartford-symphony-orchestra-gala-2017/
LOCATION:Connecticut Convention Center – Exhibit Hall\, 100 Columbus Blvd.\, 3rd Floor\, Hartford\, CT\, 06103\, United States
CATEGORIES:Gala,Private Event - Registered Attendees Only
ATTACH;FMTTYPE=image/jpeg:https://www.ctconventions.com/wp-content/uploads/2016/12/bravo-2017_web.jpg
END:VEVENT
BEGIN:VEVENT
DTSTART;TZID=UTC:20170422T183000
DTEND;TZID=UTC:20170422T220000
DTSTAMP:20260421T062543
CREATED:20170307T030005Z
LAST-MODIFIED:20170307T030005Z
UID:7545-1492885800-1492898400@www.ctconventions.com
SUMMARY:8th Annual White Coat Gala
DESCRIPTION:The 8th Annual White Coat Gala celebrates UConn Health’s campus expansion and the 30th anniversary of the Center on Aging. Dr. George A. Kuchel and philanthropists Robert and Renée Samuels will be honored for their remarkable contributions to geriatrics research\, treatment\, and education. \nThe Second City\, the world’s premier comedy club and school of improvisation\, will cap off the evening with an exclusive performance of “Game Night.” The Second City has launched the careers of comedy legends Dan Aykroyd\, John Belushi\, Stephen Colbert\, Tina Fey\, Jane Lynch\, Bill Murray\, Joan Rivers\, and so many others.
URL:https://www.ctconventions.com/event/8th-annual-white-coat-gala/
LOCATION:Connecticut Convention Center – Ballroom Level\, 100 Columbus Blvd.\, Hartford\, CT\, 06103\, United States
CATEGORIES:Gala,Private Event - Registered Attendees Only
ATTACH;FMTTYPE=image/jpeg:https://www.ctconventions.com/wp-content/uploads/2017/03/White-Coat-Gala.jpg
END:VEVENT
BEGIN:VEVENT
DTSTART;TZID=UTC:20170420T173000
DTEND;TZID=UTC:20170420T203000
DTSTAMP:20260421T062543
CREATED:20161222T014020Z
LAST-MODIFIED:20170405T183454Z
UID:7263-1492709400-1492720200@www.ctconventions.com
SUMMARY:Boys & Girls Clubs of Hartford: 2017 Great Futures Gala
DESCRIPTION:The 2017 GREAT Futures Gala is the signature fundraising event of the Boys & Girls Clubs of Hartford!  All proceeds raised support the life-changing programs and services BGCH offers to over 10\,000 of Hartford’s youth and teens.
URL:https://www.ctconventions.com/event/bgch-2017-gala/
LOCATION:Connecticut Convention Center-Ballroom\, 100 Columbus Blvd.\, 6th Floor\, Hartford\, CT\, 06103\, United States
CATEGORIES:Gala
END:VEVENT
BEGIN:VEVENT
DTSTART;TZID=UTC:20170325T180000
DTEND;TZID=UTC:20170325T220000
DTSTAMP:20260421T062543
CREATED:20170216T191930Z
LAST-MODIFIED:20170216T191930Z
UID:7374-1490464800-1490479200@www.ctconventions.com
SUMMARY:Red Cross Ball
DESCRIPTION:The Red Cross is honoring The Hartford and its leader\, Chairman and CEO Christopher J. Swift on this\, the 70th anniversary of The Hartford’s Junior Fire Marshal program.
URL:https://www.ctconventions.com/event/red-cross-ball/
LOCATION:Connecticut Convention Center-Ballroom\, 100 Columbus Blvd.\, 6th Floor\, Hartford\, CT\, 06103\, United States
CATEGORIES:Gala
ATTACH;FMTTYPE=image/jpeg:https://www.ctconventions.com/wp-content/uploads/2017/02/American-Red-Cross-Ball_Web.jpg
END:VEVENT
BEGIN:VEVENT
DTSTART;TZID=UTC:20170126T170000
DTEND;TZID=UTC:20170126T210000
DTSTAMP:20260421T062543
CREATED:20161222T011533Z
LAST-MODIFIED:20161222T011533Z
UID:7251-1485450000-1485464400@www.ctconventions.com
SUMMARY:CFA Society Hartford: 2017 Annual Forecast Dinner Gala
DESCRIPTION:The dinner is the flagship event for the CFA Society Hartford and is renowned as the premier networking event of the year among the local investment community This year’s speaker is Douglas Cote\, CFA\, Chief Market Strategist at Voya Investment Management. Last year’s event had over 400 attendees from over 150 companies.  \nEvent HoursReception: 5:00 p.m. – 9:00 p.m.Dinner and Speaker: 6:30 p.m. – 9:00 p.m. \nTicketsMember: $90Non-Member: $135Tables of 10: $1\,100
URL:https://www.ctconventions.com/event/hartford-cfa-2017-annual-forecast-dinner/
LOCATION:Connecticut Convention Center-Ballroom\, 100 Columbus Blvd.\, 6th Floor\, Hartford\, CT\, 06103\, United States
CATEGORIES:Gala
END:VEVENT
BEGIN:VEVENT
DTSTART;TZID=UTC:20161216T180000
DTEND;TZID=UTC:20161216T233000
DTSTAMP:20260421T062543
CREATED:20161102T004850Z
LAST-MODIFIED:20161102T004850Z
UID:7160-1481911200-1481931000@www.ctconventions.com
SUMMARY:First Cathedral Gala
DESCRIPTION:
URL:https://www.ctconventions.com/event/first-cathedral-gala/
LOCATION:Connecticut Convention Center – Ballroom Level\, 100 Columbus Blvd.\, Hartford\, CT\, 06103\, United States
CATEGORIES:Gala
END:VEVENT
BEGIN:VEVENT
DTSTART;TZID=UTC:20161112T180000
DTEND;TZID=UTC:20161112T233000
DTSTAMP:20260421T062543
CREATED:20160712T204050Z
LAST-MODIFIED:20161019T222249Z
UID:6898-1478973600-1478993400@www.ctconventions.com
SUMMARY:Connecticut Children's 20th Anniversary Gala
DESCRIPTION:This year’s Gala is the centerpiece of Connecticut Children’s Medical Center’s 20th anniversary celebration and promises to be an exceptional evening for all who attend. In addition to dining\, dancing and bidding\, guests will enjoy an Emerald Cirque Wizard of Oz theatrical production featuring aerial artistry. All proceeds will help ensure that all children\, from infants to adolescents\, receive the highly specialized medical and surgical services Connecticut Children’s offers.
URL:https://www.ctconventions.com/event/connecticut-childrens-20th-anniversary-gala/
LOCATION:Connecticut Convention Center-Ballroom\, 100 Columbus Blvd.\, 6th Floor\, Hartford\, CT\, 06103\, United States
CATEGORIES:Gala
ATTACH;FMTTYPE=image/jpeg:https://www.ctconventions.com/wp-content/uploads/2016/07/CT-Childrens-Gala-2016-Website-v2-252x262px.jpg
END:VEVENT
END:VCALENDAR