BEGIN:VCALENDAR
VERSION:2.0
PRODID:-//Connecticut Convention Center - ECPv6.15.17//NONSGML v1.0//EN
CALSCALE:GREGORIAN
METHOD:PUBLISH
X-WR-CALNAME:Connecticut Convention Center
X-ORIGINAL-URL:https://www.ctconventions.com
X-WR-CALDESC:Events for Connecticut Convention Center
REFRESH-INTERVAL;VALUE=DURATION:PT1H
X-Robots-Tag:noindex
X-PUBLISHED-TTL:PT1H
BEGIN:VTIMEZONE
TZID:America/New_York
BEGIN:DAYLIGHT
TZOFFSETFROM:-0500
TZOFFSETTO:-0400
TZNAME:EDT
DTSTART:20240310T070000
END:DAYLIGHT
BEGIN:STANDARD
TZOFFSETFROM:-0400
TZOFFSETTO:-0500
TZNAME:EST
DTSTART:20241103T060000
END:STANDARD
BEGIN:DAYLIGHT
TZOFFSETFROM:-0500
TZOFFSETTO:-0400
TZNAME:EDT
DTSTART:20250309T070000
END:DAYLIGHT
BEGIN:STANDARD
TZOFFSETFROM:-0400
TZOFFSETTO:-0500
TZNAME:EST
DTSTART:20251102T060000
END:STANDARD
BEGIN:DAYLIGHT
TZOFFSETFROM:-0500
TZOFFSETTO:-0400
TZNAME:EDT
DTSTART:20260308T070000
END:DAYLIGHT
BEGIN:STANDARD
TZOFFSETFROM:-0400
TZOFFSETTO:-0500
TZNAME:EST
DTSTART:20261101T060000
END:STANDARD
END:VTIMEZONE
BEGIN:VEVENT
DTSTART;TZID=America/New_York:20250322T180000
DTEND;TZID=America/New_York:20250322T220000
DTSTAMP:20260423T213303
CREATED:20241210T201456Z
LAST-MODIFIED:20241210T201456Z
UID:11255-1742666400-1742680800@www.ctconventions.com
SUMMARY:The Wadsworth Spring Gala: Drawing Closer\, An Event of Art\, Paper and Celebration
DESCRIPTION:The Gala includes a cocktail reception\, silent and live auction\, dinner program and post-event reception. This event will honor Henry Zachs for his philanthropic work in the Hartford community and contributions to the Wadsworth Atheneum Museum of Art as a valued Board of Trustee member. The theme celebrates works on paper\, which are prominently featured during the 2024-2025 season at the Museum. Attire is black tie optional.  \nTicket Information:\nPlease contact Kathryn Hare\, Development Manager at Kathryn.Hare@thewadsworth.org
URL:https://www.ctconventions.com/event/the-wadsworth-spring-gala-drawing-closer-an-event-of-art-paper-and-celebration/
CATEGORIES:Gala,Private Event - Registered Attendees Only
ATTACH;FMTTYPE=image/jpeg:https://www.ctconventions.com/wp-content/uploads/2024/12/wadsworth.jpg
END:VEVENT
END:VCALENDAR