BEGIN:VCALENDAR
VERSION:2.0
PRODID:-//Connecticut Convention Center - ECPv6.15.17//NONSGML v1.0//EN
CALSCALE:GREGORIAN
METHOD:PUBLISH
X-ORIGINAL-URL:https://www.ctconventions.com
X-WR-CALDESC:Events for Connecticut Convention Center
REFRESH-INTERVAL;VALUE=DURATION:PT1H
X-Robots-Tag:noindex
X-PUBLISHED-TTL:PT1H
BEGIN:VTIMEZONE
TZID:UTC
BEGIN:STANDARD
TZOFFSETFROM:+0000
TZOFFSETTO:+0000
TZNAME:UTC
DTSTART:20220101T000000
END:STANDARD
END:VTIMEZONE
BEGIN:VTIMEZONE
TZID:America/New_York
BEGIN:DAYLIGHT
TZOFFSETFROM:-0500
TZOFFSETTO:-0400
TZNAME:EDT
DTSTART:20240310T070000
END:DAYLIGHT
BEGIN:STANDARD
TZOFFSETFROM:-0400
TZOFFSETTO:-0500
TZNAME:EST
DTSTART:20241103T060000
END:STANDARD
BEGIN:DAYLIGHT
TZOFFSETFROM:-0500
TZOFFSETTO:-0400
TZNAME:EDT
DTSTART:20250309T070000
END:DAYLIGHT
BEGIN:STANDARD
TZOFFSETFROM:-0400
TZOFFSETTO:-0500
TZNAME:EST
DTSTART:20251102T060000
END:STANDARD
BEGIN:DAYLIGHT
TZOFFSETFROM:-0500
TZOFFSETTO:-0400
TZNAME:EDT
DTSTART:20260308T070000
END:DAYLIGHT
BEGIN:STANDARD
TZOFFSETFROM:-0400
TZOFFSETTO:-0500
TZNAME:EST
DTSTART:20261101T060000
END:STANDARD
BEGIN:DAYLIGHT
TZOFFSETFROM:-0500
TZOFFSETTO:-0400
TZNAME:EDT
DTSTART:20270314T070000
END:DAYLIGHT
BEGIN:STANDARD
TZOFFSETFROM:-0400
TZOFFSETTO:-0500
TZNAME:EST
DTSTART:20271107T060000
END:STANDARD
END:VTIMEZONE
BEGIN:VEVENT
DTSTART;VALUE=DATE:20230613
DTEND;VALUE=DATE:20230617
DTSTAMP:20260420T030212
CREATED:20230217T202017Z
LAST-MODIFIED:20230612T192800Z
UID:10376-1686614400-1686959999@www.ctconventions.com
SUMMARY:26th Annual Snow & Ice Symposium
DESCRIPTION:Annual snow & ice trade show + conference for the Snow & Ice Management industry  \nRegistration: \nRegistration information can be found here.
URL:https://www.ctconventions.com/event/26th-annual-snow-ice-symposium/
LOCATION:Connecticut Convention Center\, 100 Columbus Blvd\, Hartford\, CT\, 06103\, United States
CATEGORIES:Featured,Private Event - Registered Attendees Only
ATTACH;FMTTYPE=image/png:https://www.ctconventions.com/wp-content/uploads/2023/02/2023-SIMA.png
END:VEVENT
BEGIN:VEVENT
DTSTART;VALUE=DATE:20230720
DTEND;VALUE=DATE:20230724
DTSTAMP:20260420T030212
CREATED:20170314T004704Z
LAST-MODIFIED:20230715T003915Z
UID:7603-1689811200-1690156799@www.ctconventions.com
SUMMARY:ConnectiCon
DESCRIPTION:ConnectiCon is a multifandom convention for fans of all things pop-culture – animation\, video games\, board games\, card games\, roleplaying games\, anime\, comic books\, TV/movies\, science fact\, science fiction\, fantasy\, dystopian literature\, costuming\, web content\, creators\, and more! Taking over the entirety of the Connecticut Convention Center & Hartford Marriott Downtown\, ConnectiCon offers dozens of events to participate on an hourly basis. ConnectiCon also offers after hours programming\, ConVivial Fest\, for 18+ and 21+ members at local downtown Hartford venues\, featuring live music\, dance parties\, and other entertainment. \nConnectiCon Menu: \nConnectiCon Concessions Menu – 2023
URL:https://www.ctconventions.com/event/connecticon/
LOCATION:Connecticut Convention Center\, 100 Columbus Blvd\, Hartford\, CT\, 06103\, United States
CATEGORIES:Convention,Featured
ATTACH;FMTTYPE=image/png:https://www.ctconventions.com/wp-content/uploads/2017/03/Connecticon.png
END:VEVENT
BEGIN:VEVENT
DTSTART;VALUE=DATE:20230811
DTEND;VALUE=DATE:20231016
DTSTAMP:20260420T030212
CREATED:20230627T222152Z
LAST-MODIFIED:20230829T004107Z
UID:10550-1691712000-1697414399@www.ctconventions.com
SUMMARY:Beyond King Tut
DESCRIPTION:A cinematic exhibition that takes guests on an expansive journey through the true story of King Tut\, and one of the greatest archaeological discoveries of all time. Using the next generation of visual storytelling\, this immersive exhibition goes beyond a traditional artifact display and uses the power of photography and larger than life multimedia to invite guests into the world of the pharaohs and bring the archives of National Geographic to life. Through nine multi-sensory galleries\, visitors are transported into the past through a unique narrative of this 3\,000 year old story that the whole family can enjoy. \nOpen August 11 – October 15\, 2023 \nShow Hours: \n\nMonday & Tuesday: Closed\nWednesday & Thursday: 11am – 7pm (last entry 6pm)\nFriday & Saturday: 11am – 9pm (last entry 8pm)\nSunday: 11am – 6pm (last entry 5pm)\n\n 
URL:https://www.ctconventions.com/event/beyond-king-tut/
LOCATION:Connecticut Convention Center\, 100 Columbus Blvd\, Hartford\, CT\, 06103\, United States
CATEGORIES:Featured,Public Show
ATTACH;FMTTYPE=image/jpeg:https://www.ctconventions.com/wp-content/uploads/2023/06/BKT-showclix-1200x1200-1.jpg
END:VEVENT
BEGIN:VEVENT
DTSTART;VALUE=DATE:20230826
DTEND;VALUE=DATE:20230828
DTSTAMP:20260420T030212
CREATED:20230518T184516Z
LAST-MODIFIED:20230824T212541Z
UID:10522-1693008000-1693180799@www.ctconventions.com
SUMMARY:RetroWorld Expo
DESCRIPTION:RetroWorld Expo (RWX) is a celebration of gaming! RWX is known for its massive marketplace\, esports competitions\, free play arcade and gaming area\, tabletop gaming\, cosplay\, live music and YouTube – industry guests and panels. Our marketplace has tons of vendors selling videogames\, crafts\, collectibles\, anime\, artwork\, and more! \nShow Hours: \nSaturday: 10am-8pm \nSunday: 10am-5pm \nTicket Information: \n2 day pass: $60 \nSaturday: $40 \nSunday: $30 \nClick here to get tickets. \nRetroWorld  Expo Concessions Menu
URL:https://www.ctconventions.com/event/retroworld-expo-3/
LOCATION:CT
CATEGORIES:Expo,Featured,Public Show
ATTACH;FMTTYPE=image/png:https://www.ctconventions.com/wp-content/uploads/2023/05/2023-RetroWorld-AD.png
END:VEVENT
BEGIN:VEVENT
DTSTART;VALUE=DATE:20231027
DTEND;VALUE=DATE:20231030
DTSTAMP:20260420T030212
CREATED:20230829T223303Z
LAST-MODIFIED:20231026T011135Z
UID:10606-1698364800-1698623999@www.ctconventions.com
SUMMARY:Vertical Hoops Fall Championships
DESCRIPTION:Youth basketball tournament\, grades 4-12\, bringing together the best teams from around the Northeast. \nBuilding Information: \n\nPlease be advised no food or beverage other than what is purchased inside the building is allowed\nCoolers are not permitted\nLawn chairs are not permitted seating is provided \n\nConcession Information \nSaturday: 8am-11am…. Breakfast\n                  11am-9pm…. Lunch/Dinner \nSunday: 8am-11am…. Breakfast\n                11am-7pm…. Lunch/Dinner \nConcession stands are located inside the exhibit halls (where play is held)\nAlcoholic beverages will be available on the Landing (level 4) both Saturday and Sunday from 12pm-7pm. Valid ID required. \nScan the QR code below for the concession menu: \n \nFor additional information about the event click here. \n 
URL:https://www.ctconventions.com/event/vertical-hoops-fall-championships/
LOCATION:Connecticut Convention Center\, 100 Columbus Blvd\, Hartford\, CT\, 06103\, United States
CATEGORIES:Featured,Public Show
ATTACH;FMTTYPE=image/png:https://www.ctconventions.com/wp-content/uploads/2023/08/Untitled-2.png
END:VEVENT
BEGIN:VEVENT
DTSTART;VALUE=DATE:20240301
DTEND;VALUE=DATE:20240304
DTSTAMP:20260420T030212
CREATED:20211011T172556Z
LAST-MODIFIED:20231205T224426Z
UID:9962-1709251200-1709510399@www.ctconventions.com
SUMMARY:Jurassic Quest
DESCRIPTION:We are Jurassic Quest\, the largest & most realistic traveling dinosaur experience in North America! \nDate & Times:\nMarch 1st – Friday 12pm-8p\nMarch 2nd – Saturday 9a-8p\nMarch 3rd – Sunday 9a-7p \nGet Tickets:\nJurassic Quest Tickets \nSocial Media: \nFacebook: @jurassicquest\nInstagram: @jurassicquest\nEventHashtag: #jurassicquest
URL:https://www.ctconventions.com/event/jurassic-quest-23/
LOCATION:Connecticut Convention Center – Exhibit Hall\, 100 Columbus Blvd.\, 3rd Floor\, Hartford\, CT\, 06103\, United States
CATEGORIES:Featured,Public Show
ATTACH;FMTTYPE=image/png:https://www.ctconventions.com/wp-content/uploads/2021/10/Jurassic-Quest-Logo-004.png
ORGANIZER;CN="Jurassic Quest Holdings%2C LLC":MAILTO:customerservice@jurassicquest.com
END:VEVENT
BEGIN:VEVENT
DTSTART;VALUE=DATE:20240315
DTEND;VALUE=DATE:20240318
DTSTAMP:20260420T030212
CREATED:20220119T214952Z
LAST-MODIFIED:20240308T212142Z
UID:10066-1710460800-1710719999@www.ctconventions.com
SUMMARY:90's Con
DESCRIPTION:Spend a weekend going back in time to experience some of your favorite 90s moments. Named by People magazines as one of the Top 100 Reasons to Love America\, 90s Con reunites casts from iconic 90s television shows\, films and musical acts. Fans can meet celebrities in attendance for solo photo ops\, autographs and selfies as well as attend unique Q&A panels featuring conversations with cast members and bands. Over 50 celebrities in attendance including Geena Davis\, Susan Sarandon\, Alyssa Milano\, the cast of Boy Meets World\, four of the Disney princesses and much more! \nHours of Operation:\nFriday\, March 15th: 4pm-8pm\nSaturday\, March 16th: 10am-6pm\nSunday\, March 17th: 10am-5pm \nTicket Information:\nVIP Pass: $265\nWeekend Pass: $150\nFriday Pass: $45\nSaturday Pass: $75\nSunday Pass: $70\nKids (Ages 4-10) Weekend Pass: $35\nKids (Ages 4-10) Saturday or Sunday Pass: $20\nKids (Ages 4-10) Friday Pass: $10 \nTo Purchase Tickets Please Click Here.
URL:https://www.ctconventions.com/event/90s-con/
LOCATION:Connecticut Convention Center\, 100 Columbus Blvd\, Hartford\, CT\, 06103\, United States
CATEGORIES:Featured,Public Show
ATTACH;FMTTYPE=image/png:https://www.ctconventions.com/wp-content/uploads/2022/01/90sCon-Logo-for-Screens-YesThats4-Huge-002-002.png
ORGANIZER;CN="That's 4 Entertainment":MAILTO:info@thats4entertainment.com
END:VEVENT
BEGIN:VEVENT
DTSTART;VALUE=DATE:20240511
DTEND;VALUE=DATE:20240513
DTSTAMP:20260420T030212
CREATED:20230304T025139Z
LAST-MODIFIED:20240820T002944Z
UID:10415-1715385600-1715558399@www.ctconventions.com
SUMMARY:Brick Fest Live
DESCRIPTION:See Life-Sized models made from tens of thousands of bricks. Enjoy hands-on activities and attractions assembled for maximum family fun. Meet contestants from the LEGO Masters TV Show. Dive in and get a once-in-a-lifetime photo with 200\,000 colorful bricks. Build\, race\, and win at the famous 35 foot derby drag race. Bring the entire family!  \nREFUND POLICY: Refunds are only made available only to those that add our no-questions-asked TICKET PROTECTION option at checkout. \nDATE & TIMES; \nMay 11 – 9am – 5pm\nMay 12 – 10am – 4pm \nClick here to get tickets. \nSocial Media:\nFacebook: @brickfestlive\nInstagram: @brickfestlive\nTwitter: @brickfestlive
URL:https://www.ctconventions.com/event/brick-fest-live/
LOCATION:Connecticut Convention Center\, 100 Columbus Blvd\, Hartford\, CT\, 06103\, United States
CATEGORIES:Featured,Public Show
ATTACH;FMTTYPE=image/png:https://www.ctconventions.com/wp-content/uploads/2023/03/1666902599Groupon-Images-700x420png.png
END:VEVENT
BEGIN:VEVENT
DTSTART;VALUE=DATE:20240615
DTEND;VALUE=DATE:20240617
DTSTAMP:20260420T030212
CREATED:20240509T213138Z
LAST-MODIFIED:20240820T002941Z
UID:10936-1718409600-1718582399@www.ctconventions.com
SUMMARY:Unicorn World
DESCRIPTION:Life-sized unicorns\, a magical forest\, and a fun-filled day of unicorn activities + rides for the whole family! \nEvent Date & Times\nSaturday\, June 15: 9am-5:30pm\nSunday\, June 16: 10am-3pm \nTicket Information\nFor tickets click here. \nSocial Media\nFacebook: @UNICORNWORLDEVENT\nInstagram: @UNICORNWORLDEVENT\nEvent Hashtag: #UNICORNWORLDHARTFORD
URL:https://www.ctconventions.com/event/unicorn-world/
LOCATION:Connecticut Convention Center\, 100 Columbus Blvd\, Hartford\, CT\, 06103\, United States
CATEGORIES:Featured,Private Event - Registered Attendees Only
ATTACH;FMTTYPE=image/png:https://www.ctconventions.com/wp-content/uploads/2024/05/405x315-px-002.png
END:VEVENT
BEGIN:VEVENT
DTSTART;VALUE=DATE:20240709
DTEND;VALUE=DATE:20240714
DTSTAMP:20260420T030212
CREATED:20240523T172749Z
LAST-MODIFIED:20240820T002941Z
UID:10946-1720483200-1720915199@www.ctconventions.com
SUMMARY:Handbell Musicians of America's Free Concerts - Open to the Public
DESCRIPTION:Public Concerts\nJuly 9: Merrimack Valley Ringers 6-7 PM\nJuly 10: Bronze Ambassadors of the United Christian Academy 1-1:30 PM; The Potomac Honors and Landon Advanced Handbell Ensembles 5-6 PM\nJuly 11: Philadelphia Bronze 1-1:30 PM; The Carol Ringers 6-7 PM\nJuly 12: Jubilate Handbell Choir 1-1:30 PM; Back Bay Ringers 8-9 PM\nJuly 13: All-Star Choir and Distinctly Teen 2:45 PM – 4:45 PM \nFull event for registered attendees is July 9-13 \nTicket Information\nDaily Concerts are Free and Open to the Public – All concerts take place in Ballroom A \nSocial Media\nFacebook: @HandbellMusicians\nInstagram: @hmamusicians\nYouTube: handbellmusicians\nEvent Hashtag: #HMASeminar24 \nhttps://www.ctconventions.com/wp-content/uploads/2024/05/BellConcerts.mp4
URL:https://www.ctconventions.com/event/handbell-musicians-of-americas-free-concerts-open-to-the-public/
LOCATION:Connecticut Convention Center-Ballroom\, 100 Columbus Blvd.\, 6th Floor\, Hartford\, CT\, 06103\, United States
CATEGORIES:Featured,Private Event - Registered Attendees Only,Public Show
ATTACH;FMTTYPE=image/jpeg:https://www.ctconventions.com/wp-content/uploads/2024/05/HMA-70th-Logo-1.jpg
END:VEVENT
BEGIN:VEVENT
DTSTART;VALUE=DATE:20250314
DTEND;VALUE=DATE:20250317
DTSTAMP:20260420T030212
CREATED:20240409T184934Z
LAST-MODIFIED:20250311T190323Z
UID:10851-1741910400-1742169599@www.ctconventions.com
SUMMARY:Hot Tub & Swim Spa Blowout Expo
DESCRIPTION:Save Big on a huge selection of Hot Tubs and Swim Spas from major brands!  Over 40 Hot Tubs and Swim Spas will be on display from 5 major brands at huge discounts.  Financing is available (with approved credit). \nShow Admission Is Free \nHours:\nFri 4p-8p\, \nSat 10a-8p \nSun 10a-5p
URL:https://www.ctconventions.com/event/hot-tub-swim-spa-blowout-expo-3/
LOCATION:Connecticut Convention Center – Exhibit Hall B\, 100 Columbus Blvd\, Hartford\, CT\, 06103\, United States
CATEGORIES:Featured,Public Show
ATTACH;FMTTYPE=image/jpeg:https://www.ctconventions.com/wp-content/uploads/2024/04/200x200-002.jpg
END:VEVENT
BEGIN:VEVENT
DTSTART;VALUE=DATE:20250404
DTEND;VALUE=DATE:20250407
DTSTAMP:20260420T030212
CREATED:20250129T171146Z
LAST-MODIFIED:20250129T171146Z
UID:11384-1743724800-1743983999@www.ctconventions.com
SUMMARY:Jurassic Quest
DESCRIPTION:Jurassic Quest is the world’s largest\, most popular dinosaur event with unique and exciting experiences for the whole family! \nThere’s no better place to make pter-iffic memories playing with adorable baby dinos\, excavating fossils\, RIDING a dinosaur\, or even training a raptor and strolling through our photorealistic dino herd including behemoths like sky-scraping Spinosaurus and\, the King himself\, Tyrannosaurus rex! Get your tickets for supersized family fun before they go EXTINCT! \nDate & Times:\nFriday\, April 4th: 12pm-6pm\nSaturday\, April 5th: 9am-6pm\nSunday\, April 6th: 9am-5pm \nGet Tickets:\nClick here for tickets. Save 30% with promo code CCC30 \nSocial Media:\nFacebook: @jurassicquest\nInstagram: @jurassicquest
URL:https://www.ctconventions.com/event/jurassic-quest-23-2/
LOCATION:Connecticut Convention Center – Exhibit Hall\, 100 Columbus Blvd.\, 3rd Floor\, Hartford\, CT\, 06103\, United States
CATEGORIES:Featured,Public Show
ATTACH;FMTTYPE=image/png:https://www.ctconventions.com/wp-content/uploads/2025/01/jurassic-quest-logo-1.png
ORGANIZER;CN="Jurassic Quest Holdings%2C LLC":MAILTO:customerservice@jurassicquest.com
END:VEVENT
BEGIN:VEVENT
DTSTART;VALUE=DATE:20250412
DTEND;VALUE=DATE:20250414
DTSTAMP:20260420T030212
CREATED:20250129T162401Z
LAST-MODIFIED:20250129T162401Z
UID:11366-1744416000-1744588799@www.ctconventions.com
SUMMARY:Brick Fest Live
DESCRIPTION:The top family event for brick fans will soon “assemble” in Hartford! \nThis event is all-in on imagination with stations and attractions designed to inspire creativity and play! Families can get hands-on with different brick challenges throughout the event as well as explore community collab builds and master creations from all over the world.\n•  Join a Guinness World Record Challenge: Help create a massive floor mosaic!\n•  Life-Size Models: See awe-inspiring builds from around the world.\n•  Glow Zone: Create in an exclusive glow-in-the-dark building area.\n•  Meet the Masters: Get up close with LEGO Masters from the hit TV \n    show. \nDATE & TIMES;\nSat\, April 12: 9am – 5p\nSun\, April 13: 10am – 4pm \nClick here to get tickets. Save 30% with promo code CCC30 \nSocial Media:\nFacebook: @brickfestlive\nInstagram: @brickfestlive\nEvent Hashtag: #brickfestlive
URL:https://www.ctconventions.com/event/brick-fest-live-2/
LOCATION:Connecticut Convention Center\, 100 Columbus Blvd\, Hartford\, CT\, 06103\, United States
CATEGORIES:Featured,Public Show
ATTACH;FMTTYPE=image/png:https://www.ctconventions.com/wp-content/uploads/2025/01/9e399f06-ee55-4acf-8e14-249c8e1097e0.png
END:VEVENT
BEGIN:VEVENT
DTSTART;VALUE=DATE:20250524
DTEND;VALUE=DATE:20250630
DTSTAMP:20260420T030212
CREATED:20250416T182419Z
LAST-MODIFIED:20250609T132021Z
UID:11496-1748044800-1751241599@www.ctconventions.com
SUMMARY:Beyond Monet / Beyond Van Gogh
DESCRIPTION:Step into the world of two legendary artists. \nJoin us in Hartford for Beyond Van Gogh & Beyond Monet and experience art like never before. \nHours of Operation \nMonday – Thursday: 10am to 8pm (Last Entry: 7pm)\nFriday: 11am to 9pm (Last Entry: 8pm)\nSaturday: 10am to 9pm (Last Entry: 8:30pm)\nSunday: 10am to 7pm (Last Entry: 6:15pm) \nSat. June 14th and 21st – Last entry 7:00pm\nSat. June 28th – Last entry 8:30pm \nTicket Information\nTo get tickets click here.
URL:https://www.ctconventions.com/event/beyond-monet-beyond-van-gogh/
LOCATION:Connecticut Convention Center\, 100 Columbus Blvd\, Hartford\, CT\, 06103\, United States
CATEGORIES:Featured,Public Show
ATTACH;FMTTYPE=image/jpeg:https://www.ctconventions.com/wp-content/uploads/2025/04/Beyond-VanGogh-Monet.jpg
END:VEVENT
BEGIN:VEVENT
DTSTART;VALUE=DATE:20250607
DTEND;VALUE=DATE:20250609
DTSTAMP:20260420T030212
CREATED:20250408T135744Z
LAST-MODIFIED:20250408T135744Z
UID:11472-1749254400-1749427199@www.ctconventions.com
SUMMARY:Unicorn World
DESCRIPTION:Life-sized unicorns\, a magical forest\, and a fun-filled day of unicorn activities + rides for the whole family! \nEvent Date & Times\nSaturday\, June 7: 9am-5:30pm\nSunday\, June 8: 9am-5:30pm \nTicket Information\nFor tickets click here. \nSocial Media\nFacebook: @UNICORNWORLDEVENT\nInstagram: @UNICORNWORLDEVENT\nEvent Hashtag: #UNICORNWORLDHARTFORD
URL:https://www.ctconventions.com/event/unicorn-world-2/
LOCATION:Connecticut Convention Center\, 100 Columbus Blvd\, Hartford\, CT\, 06103\, United States
CATEGORIES:Featured,Private Event - Registered Attendees Only
ATTACH;FMTTYPE=image/png:https://www.ctconventions.com/wp-content/uploads/2024/05/405x315-px-002.png
END:VEVENT
BEGIN:VEVENT
DTSTART;VALUE=DATE:20250808
DTEND;VALUE=DATE:20250811
DTSTAMP:20260420T030212
CREATED:20250805T142959Z
LAST-MODIFIED:20250805T142959Z
UID:11603-1754611200-1754870399@www.ctconventions.com
SUMMARY:Hot Tub & Swim Spa Blowout Expo
DESCRIPTION:Save Big on a huge selection of Hot Tubs and Swim Spas from major brands!  Over 40 Hot Tubs and Swim Spas will be on display from 5 major brands at huge discounts.  Financing is available (with approved credit). \nShow Admission Is Free \nHours:\nFri 4p-8p\, \nSat 10a-8p \nSun 10a-5p \nFor more information click here.
URL:https://www.ctconventions.com/event/hot-tub-swim-spa-blowout-expo-3-2/
LOCATION:Connecticut Convention Center – Exhibit Hall B\, 100 Columbus Blvd\, Hartford\, CT\, 06103\, United States
CATEGORIES:Featured,Public Show
ATTACH;FMTTYPE=image/jpeg:https://www.ctconventions.com/wp-content/uploads/2025/08/Logo-Hot-Tub-.jpg
END:VEVENT
BEGIN:VEVENT
DTSTART;VALUE=DATE:20251121
DTEND;VALUE=DATE:20251224
DTSTAMP:20260420T030212
CREATED:20230628T234924Z
LAST-MODIFIED:20250902T150527Z
UID:10555-1763683200-1766534399@www.ctconventions.com
SUMMARY:GLOW Hartford
DESCRIPTION:Holiday Light Festival & Market!\nCelebrate the holiday season under the twinkle of a million lights at Glow Hartford! Glow Hartford returns to the Connecticut Convention Center\, November 21st through December 23rd. \nEnjoy interactive light gardens\, illuminated structures\, seasonal food and drinks\, family-friendly activities\, a festive holiday market and daily live entertainment. \nDon’t miss a FREE photo with Santa and ride on our trackless “Glow-comotive” train. \nTickets can be purchased here. \nThe Glow-comotive Train
URL:https://www.ctconventions.com/event/glow-2/
LOCATION:Connecticut Convention Center\, 100 Columbus Blvd\, Hartford\, CT\, 06103\, United States
CATEGORIES:Featured,Public Show
ATTACH;FMTTYPE=image/jpeg:https://www.ctconventions.com/wp-content/uploads/2023/06/glow-hartford-logo-1-002.jpg
END:VEVENT
BEGIN:VEVENT
DTSTART;VALUE=DATE:20260306
DTEND;VALUE=DATE:20260309
DTSTAMP:20260420T030212
CREATED:20231227T235405Z
LAST-MODIFIED:20260202T210906Z
UID:10739-1772755200-1773014399@www.ctconventions.com
SUMMARY:Connecticut Home & Remodeling Show
DESCRIPTION:As Connecticut’s largest and longest-running Home and Remodeling Show\, the Home Builders & Remodelers Association of Connecticut River Region offers residents of Connecticut and western Massachusetts a one-stop shopping experience in home products and services. You will be able to find a wide variety of home improvement\, building\, and remodeling exhibits from local and national vendors featuring thousands of ideas for your home and yard. Because this is the show that is produced locally by the Home Builders & Remodelers Association of Connecticut River Region\, you have the confidence knowing that this home show represents many of our members and the people we do business with every day. The Home Builders & Remodelers Association of Connecticut River Region and the Connecticut Home & Remodeling Show… quality\, integrity and professionalism. \nDate & Times:\nFriday\, March 6: 12pm-8pm\nSaturday\, March 7: 10am-8pm\nSunday\, March 8: 10am-4pm \nTicket Information:\nFor tickets click here\,  or purchase them at the Convention Center. \nSocial Media:\nFacebook- @CTRemodelingShow\nInstagram- @HBRACentralConnecticut\nEvent Hashtag- #CTHomeShow
URL:https://www.ctconventions.com/event/connecticut-home-remodeling-show/
LOCATION:Connecticut Convention Center\, 100 Columbus Blvd\, Hartford\, CT\, 06103\, United States
CATEGORIES:Featured,Public Show
ATTACH;FMTTYPE=image/jpeg:https://www.ctconventions.com/wp-content/uploads/2023/12/thumbnail_HS-78th-logo-2025-OL.jpg
END:VEVENT
BEGIN:VEVENT
DTSTART;VALUE=DATE:20260320
DTEND;VALUE=DATE:20260323
DTSTAMP:20260420T030212
CREATED:20260317T150013Z
LAST-MODIFIED:20260317T151101Z
UID:11791-1773964800-1774223999@www.ctconventions.com
SUMMARY:Hot Tub & Swim Spa Blowout Expo
DESCRIPTION:Save Big on a huge selection of Hot Tubs and Swim Spas from major brands!  Over 40 Hot Tubs and Swim Spas will be on display from 5 major brands at huge discounts.  Financing is available (with approved credit). \nShow Admission Is Free \nHours:\nFri 4p-8p\nSat 10a-8p \nSun 10a-5p \nFor more information click here.
URL:https://www.ctconventions.com/event/hot-tub-swim-spa-blowout-expo-4/
LOCATION:Connecticut Convention Center – Exhibit Hall B\, 100 Columbus Blvd\, Hartford\, CT\, 06103\, United States
CATEGORIES:Featured,Public Show
ATTACH;FMTTYPE=image/jpeg:https://www.ctconventions.com/wp-content/uploads/2026/03/Hot-Tub-2026-1.jpg
END:VEVENT
BEGIN:VEVENT
DTSTART;VALUE=DATE:20260418
DTEND;VALUE=DATE:20260419
DTSTAMP:20260420T030212
CREATED:20260326T202018Z
LAST-MODIFIED:20260326T202252Z
UID:11800-1776470400-1776556799@www.ctconventions.com
SUMMARY:CES Boxing: Riverside Rumble
DESCRIPTION:Jimmy Burchfield’s Classic Entertainment & Sports returns to Hartford with “The Riverside Rumble”. A night of professional and amateur boxing featuring the rising stars in Connecticut and throughout the entire Northeast including: \n– JACOB “LEFTY” MARRERO – 11-0 (8 KO)\, Bridgeport\, CT \n– MYKQUAN WILLIAMS – 23-1-2 (12 KO)\, Hartford\, CT \n– IMAN LEE – 14-0-1 (8 KO)\, Yonkers\, NY \n– DOUGLAS MARROQUIN – 9-0 (5 KO) – Stamford\, CT \n– SLAMOMIR BOHDZIEWICZ – 7-0 (6 KO) – Stamford\, CT via Walbrzych\, Poland \n– JOSEPH CHISHOLM – 6-1 (6 KO) – Stratford\, CT \n– JONATHAN FIGUEROA – 7-2 (6 KO) – Hartford\, CT \n– CARLOS PEREZ – 5-0 – New Haven\, CT \n– KEVANTE WINEGLASS – 3-0 (2 KO) – Waterbury\, CT \nTicket Information\nTo purchase tickets click here.
URL:https://www.ctconventions.com/event/ces-boxing-riverside-rumble/
LOCATION:Connecticut Convention Center\, 100 Columbus Blvd\, Hartford\, CT\, 06103\, United States
CATEGORIES:Featured,Public Show
ATTACH;FMTTYPE=image/jpeg:https://www.ctconventions.com/wp-content/uploads/2026/03/boxing-logo.jpg
END:VEVENT
BEGIN:VEVENT
DTSTART;TZID=America/New_York:20260501T080000
DTEND;TZID=America/New_York:20260503T200000
DTSTAMP:20260420T030212
CREATED:20260403T130746Z
LAST-MODIFIED:20260409T131426Z
UID:11806-1777622400-1777838400@www.ctconventions.com
SUMMARY:NACA's Achieve the Dream Event
DESCRIPTION:Take the first step to affordable homeownership with NACA’s best in American mortgage. This free\, event will be held from May 1 to May 3 from 8:00 am to 8:00 pm. All NACA services are free including pre-purchase counseling and assistance for homeowners. \nSocial Media\nFacebook: @nacaofficialpage\nInstagram: @nacaofficialpage\nTwitter: @naca_official
URL:https://www.ctconventions.com/event/nacas-achieve-the-dream-event/
LOCATION:Connecticut Convention Center\, 100 Columbus Blvd\, Hartford\, CT\, 06103\, United States
CATEGORIES:Featured,Public Show
ATTACH;FMTTYPE=image/png:https://www.ctconventions.com/wp-content/uploads/2026/04/Hartford-Digital-Outdoor-Marquee.png
END:VEVENT
END:VCALENDAR