BEGIN:VCALENDAR
VERSION:2.0
PRODID:-//Connecticut Convention Center - ECPv6.15.17//NONSGML v1.0//EN
CALSCALE:GREGORIAN
METHOD:PUBLISH
X-WR-CALNAME:Connecticut Convention Center
X-ORIGINAL-URL:https://www.ctconventions.com
X-WR-CALDESC:Events for Connecticut Convention Center
REFRESH-INTERVAL;VALUE=DURATION:PT1H
X-Robots-Tag:noindex
X-PUBLISHED-TTL:PT1H
BEGIN:VTIMEZONE
TZID:UTC
BEGIN:STANDARD
TZOFFSETFROM:+0000
TZOFFSETTO:+0000
TZNAME:UTC
DTSTART:20210101T000000
END:STANDARD
END:VTIMEZONE
BEGIN:VEVENT
DTSTART;VALUE=DATE:20220810
DTEND;VALUE=DATE:20221024
DTSTAMP:20260419T183741
CREATED:20220330T210502Z
LAST-MODIFIED:20220922T202318Z
UID:10143-1660089600-1666569599@www.ctconventions.com
SUMMARY:Beyond Van Gogh: The Immersive Experience
DESCRIPTION:Immerse yourself in the world of Vincent Van Gogh like you’ve never experienced before. Beyond Van Gogh is a rich and unique multimedia experience\, taking the viewer on a journey through over 300 iconic artworks including instantly-recognizable classics “The Starry Night”\, “Sunflowers”\, and “Café Terrace at Night”\, now freed from their frames. Set to a symphonic score and using the artist’s own dreams\, thoughts\, and words to drive the experience as a narrative\, Van Gogh’s art comes to life by appearing and disappearing\, flowing across multiple surfaces and heightening the senses with their immense detail. Guests will leave with a new appreciation of this prolific artist’s stunning work. \nHours of Operation: \nMonday & Tuesday  –  closed \nWed\, Thurs\, Sun  –  10:00am – 8:00pm\nFriday & Saturday  –  10:00am – 9:00pm \nFinal entry 1 hour before close \nTicket Prices:             Peak        Off Peak \nBasic Timed Entry: $49.99      $39.99 \nChild (5-15):           $28.99      $23.99 \nPremium Flex:        $59.99      $49.99 \nGroups (8+):           $43.99      $33.99 \nVIP:                         $83.99      $73.99 \n 
URL:https://www.ctconventions.com/event/beyond-van-gogh-the-immersive-experience/
LOCATION:Connecticut Convention Center – Exhibit Hall\, 100 Columbus Blvd.\, 3rd Floor\, Hartford\, CT\, 06103\, United States
CATEGORIES:Featured,Public Show
END:VEVENT
BEGIN:VEVENT
DTSTART;VALUE=DATE:20221014
DTEND;VALUE=DATE:20221017
DTSTAMP:20260419T183741
CREATED:20220920T222425Z
LAST-MODIFIED:20221013T211458Z
UID:10244-1665705600-1665964799@www.ctconventions.com
SUMMARY:10th Annual Tommy's Tattoo Convention
DESCRIPTION:You are invited to join Tom Ringwalt and some of the most talented tattoo artists in the world for the 10th Annual “Tommy’s Tattoo Convention”\, coming in 2022 to the Connecticut Convention Center\, 100 Columbus Boulevard\, Hartford CT. \nTommy’s Tattoo Convention has been attended by over 300 international\, national and local professional tattoo artists\, over 30 vendors\, and approximately 4\,000 fans throughout this three-day weekend. Our goal for 2022 is to make this event even more successful than before! \nEvent Hours\nFriday: 4:00 p.m. – 11:00 p.m.\nSaturday: 12:00 p.m. – 11:00 p.m.\nSunday: 12:00 p.m. – 8:00 p.m. \nTickets\nOne-Day: $17 (online pre-sale) | $20 (at the door)\nThree-Day: $37 (online pre-sale) | $40 (at the door)\nChildren (12 & Under): Free \nClick the link below to purchase tickets: \nPurchase Tickets for Tommy’s Tattoo Convention \nClick the link below for the concessions menu: \nTommy’s Concessions Menu
URL:https://www.ctconventions.com/event/10th-annual-tommys-tattoo-convention/
LOCATION:Connecticut Convention Center\, 100 Columbus Blvd\, Hartford\, CT\, 06103\, United States
CATEGORIES:Featured,Public Show
ATTACH;FMTTYPE=image/png:https://www.ctconventions.com/wp-content/uploads/2016/05/Tommys-Tattoo-Convention_Web.png
END:VEVENT
END:VCALENDAR