BEGIN:VCALENDAR
VERSION:2.0
PRODID:-//Connecticut Convention Center - ECPv6.15.17//NONSGML v1.0//EN
CALSCALE:GREGORIAN
METHOD:PUBLISH
X-WR-CALNAME:Connecticut Convention Center
X-ORIGINAL-URL:https://www.ctconventions.com
X-WR-CALDESC:Events for Connecticut Convention Center
REFRESH-INTERVAL;VALUE=DURATION:PT1H
X-Robots-Tag:noindex
X-PUBLISHED-TTL:PT1H
BEGIN:VTIMEZONE
TZID:UTC
BEGIN:STANDARD
TZOFFSETFROM:+0000
TZOFFSETTO:+0000
TZNAME:UTC
DTSTART:20210101T000000
END:STANDARD
END:VTIMEZONE
BEGIN:VEVENT
DTSTART;VALUE=DATE:20220505
DTEND;VALUE=DATE:20220627
DTSTAMP:20260420T024543
CREATED:20220128T203345Z
LAST-MODIFIED:20220614T204204Z
UID:10084-1651708800-1656287999@www.ctconventions.com
SUMMARY:Michelangelo Sistine Chapel: The Exhibition!
DESCRIPTION:Michelangelo’s Sistine Chapel: The Exhibition is a collection of the artist’s renowned ceiling Frescoes from the Vatican’s Sistine Chapel\, reproduced in a format that allows viewers to get face to face with the masterpieces.  There are 34 Frescos displayed\, this innovative presentation showcases pieces\, like The Creation of Adam & The Last Judgement\, allowing the audience an up close view!  Click here for more show information. \nFor COVID-19 policies\, please contact 323-935-6000.
URL:https://www.ctconventions.com/event/sistine-chapel/
LOCATION:Connecticut Convention Center – Exhibit Hall\, 100 Columbus Blvd.\, 3rd Floor\, Hartford\, CT\, 06103\, United States
CATEGORIES:Featured,Public Show
ATTACH;FMTTYPE=image/jpeg:https://www.ctconventions.com/wp-content/uploads/2022/01/Sistine_Banner_Hartford_1920x1080_0414.jpg
END:VEVENT
END:VCALENDAR