BEGIN:VCALENDAR
VERSION:2.0
PRODID:-//Connecticut Convention Center - ECPv6.15.17//NONSGML v1.0//EN
CALSCALE:GREGORIAN
METHOD:PUBLISH
X-ORIGINAL-URL:https://www.ctconventions.com
X-WR-CALDESC:Events for Connecticut Convention Center
REFRESH-INTERVAL;VALUE=DURATION:PT1H
X-Robots-Tag:noindex
X-PUBLISHED-TTL:PT1H
BEGIN:VTIMEZONE
TZID:UTC
BEGIN:STANDARD
TZOFFSETFROM:+0000
TZOFFSETTO:+0000
TZNAME:UTC
DTSTART:20210101T000000
END:STANDARD
END:VTIMEZONE
BEGIN:VEVENT
DTSTART;TZID=UTC:20220401T190000
DTEND;TZID=UTC:20220401T230000
DTSTAMP:20260420T043133
CREATED:20190801T182047Z
LAST-MODIFIED:20220328T233227Z
UID:9308-1648839600-1648854000@www.ctconventions.com
SUMMARY:CES MMA 67
DESCRIPTION:CES MMA 67 takes place on Friday\, April 1st at the Connecticut Convention Center in Hartford. \n  \n  \n 
URL:https://www.ctconventions.com/event/ces-mma-67/
LOCATION:Connecticut Convention Center – Exhibit Hall\, 100 Columbus Blvd.\, 3rd Floor\, Hartford\, CT\, 06103\, United States
CATEGORIES:Featured,Sports
ATTACH;FMTTYPE=image/jpeg:https://www.ctconventions.com/wp-content/uploads/2019/08/MMA-4.1.22-Poster.jpg
END:VEVENT
BEGIN:VEVENT
DTSTART;TZID=UTC:20220402T190000
DTEND;TZID=UTC:20220402T230000
DTSTAMP:20260420T043133
CREATED:20210915T205538Z
LAST-MODIFIED:20220314T232039Z
UID:9904-1648926000-1648940400@www.ctconventions.com
SUMMARY:CES Professional Boxing
DESCRIPTION:CES Professional Boxing takes place on Saturday\, April 2nd at the Connecticut Convention Center in Hartford.
URL:https://www.ctconventions.com/event/ces-professional-boxing/
LOCATION:Connecticut Convention Center – Exhibit Hall\, 100 Columbus Blvd.\, 3rd Floor\, Hartford\, CT\, 06103\, United States
CATEGORIES:Featured,Sports
ATTACH;FMTTYPE=image/jpeg:https://www.ctconventions.com/wp-content/uploads/2021/09/CES-Proffessional-Website.jpg
END:VEVENT
END:VCALENDAR