BEGIN:VCALENDAR
VERSION:2.0
PRODID:-//Connecticut Convention Center - ECPv6.15.17//NONSGML v1.0//EN
CALSCALE:GREGORIAN
METHOD:PUBLISH
X-WR-CALNAME:Connecticut Convention Center
X-ORIGINAL-URL:https://www.ctconventions.com
X-WR-CALDESC:Events for Connecticut Convention Center
REFRESH-INTERVAL;VALUE=DURATION:PT1H
X-Robots-Tag:noindex
X-PUBLISHED-TTL:PT1H
BEGIN:VTIMEZONE
TZID:UTC
BEGIN:STANDARD
TZOFFSETFROM:+0000
TZOFFSETTO:+0000
TZNAME:UTC
DTSTART:20210101T000000
END:STANDARD
END:VTIMEZONE
BEGIN:VEVENT
DTSTART;VALUE=DATE:20220304
DTEND;VALUE=DATE:20220307
DTSTAMP:20260420T060955
CREATED:20220120T201419Z
LAST-MODIFIED:20220207T215259Z
UID:10074-1646352000-1646611199@www.ctconventions.com
SUMMARY:Connecticut Home & Remodeling Show
DESCRIPTION:The original Connecticut Home & Remodeling Show is the largest and longest running home and remodeling show for residents of Connecticut and western Massachusetts!  Featuring hundreds of exhibits from local vendors\, including products and services for the home and yard.  This show is produced by the Home Builders & Remodelers Association of Central Connecticut\, a non-profit association of businesses in the homebuilding industry\, known for their quality\, integrity and professionalism.  Click here to view the promotional video highlighting the features of the Connecticut Home & Remodeling Show! \nHours of Operation:\nFriday\, March 4th: 3pm-8pm\nSaturday\, March 5th: 10am-8pm\nSunday\, March 6th: 10am-5pm \nAdmission:\nGeneral Admission: $12\nSeniors (65+): $9 \nFor COVID-19 policies\, please contact 860-563-4212.
URL:https://www.ctconventions.com/event/hbra-2022-home-show/
LOCATION:Connecticut Convention Center\, 100 Columbus Blvd\, Hartford\, CT\, 06103\, United States
CATEGORIES:Featured,Public Show
ATTACH;FMTTYPE=image/jpeg:https://www.ctconventions.com/wp-content/uploads/2022/01/HBRA-Website.jpg
END:VEVENT
END:VCALENDAR