BEGIN:VCALENDAR
VERSION:2.0
PRODID:-//Connecticut Convention Center - ECPv6.15.17//NONSGML v1.0//EN
CALSCALE:GREGORIAN
METHOD:PUBLISH
X-ORIGINAL-URL:https://www.ctconventions.com
X-WR-CALDESC:Events for Connecticut Convention Center
REFRESH-INTERVAL;VALUE=DURATION:PT1H
X-Robots-Tag:noindex
X-PUBLISHED-TTL:PT1H
BEGIN:VTIMEZONE
TZID:UTC
BEGIN:STANDARD
TZOFFSETFROM:+0000
TZOFFSETTO:+0000
TZNAME:UTC
DTSTART:20200101T000000
END:STANDARD
END:VTIMEZONE
BEGIN:VEVENT
DTSTART;TZID=UTC:20210925T180000
DTEND;TZID=UTC:20210925T230000
DTSTAMP:20260420T165548
CREATED:20210915T205801Z
LAST-MODIFIED:20210915T205801Z
UID:9906-1632592800-1632610800@www.ctconventions.com
SUMMARY:CES Amateur Boxing
DESCRIPTION:CES Amateur Boxing takes place on Saturday\, September 25th at the Connecticut Convention Center in Hartford.
URL:https://www.ctconventions.com/event/ces-amateur-boxing/
LOCATION:Connecticut Convention Center – Exhibit Hall\, 100 Columbus Blvd.\, 3rd Floor\, Hartford\, CT\, 06103\, United States
CATEGORIES:Featured,Sports
END:VEVENT
END:VCALENDAR