BEGIN:VCALENDAR
VERSION:2.0
PRODID:-//Connecticut Convention Center - ECPv6.15.17//NONSGML v1.0//EN
CALSCALE:GREGORIAN
METHOD:PUBLISH
X-ORIGINAL-URL:https://www.ctconventions.com
X-WR-CALDESC:Events for Connecticut Convention Center
REFRESH-INTERVAL;VALUE=DURATION:PT1H
X-Robots-Tag:noindex
X-PUBLISHED-TTL:PT1H
BEGIN:VTIMEZONE
TZID:UTC
BEGIN:STANDARD
TZOFFSETFROM:+0000
TZOFFSETTO:+0000
TZNAME:UTC
DTSTART:20180101T000000
END:STANDARD
END:VTIMEZONE
BEGIN:VEVENT
DTSTART;TZID=UTC:20191011T190000
DTEND;TZID=UTC:20191011T230000
DTSTAMP:20260422T085620
CREATED:20190919T201400Z
LAST-MODIFIED:20190919T201400Z
UID:9369-1570820400-1570834800@www.ctconventions.com
SUMMARY:CES Boxing: Dawson v. Grachev
DESCRIPTION:“Bad” Chad Dawson takes on Russian challenger Denis Grachev for the vacant WBC USNBC Light Heavyweight Title. \nAlso featured on this stacked card is: \n\nNew London heavyweight\, Cassius Chaney\nNew Haven super welterweight\, Jimmy Williams\nunbeaten Springfield\, MA welterweight\, Anthony Velazquez\nHartford lightweight\, Sharad Collier\nNew Britain featherweight\, Nathan Martinez\nand some of the best Amateur Boxers around.\n\nDoors open at 6:00pm. Click here to order your tickets today.
URL:https://www.ctconventions.com/event/ces-boxing-dawson-v-grachev/
LOCATION:Connecticut Convention Center\, 100 Columbus Blvd\, Hartford\, CT\, 06103\, United States
CATEGORIES:Featured,Sports
ATTACH;FMTTYPE=image/jpeg:https://www.ctconventions.com/wp-content/uploads/2019/09/Boxing-for-Web.jpg
END:VEVENT
BEGIN:VEVENT
DTSTART;TZID=UTC:20191020T100000
DTEND;TZID=UTC:20191021T160000
DTSTAMP:20260422T085620
CREATED:20191008T202104Z
LAST-MODIFIED:20191008T203507Z
UID:9409-1571565600-1571673600@www.ctconventions.com
SUMMARY:CASL CECA 2019 Conference and Exhbition
DESCRIPTION:Connecticut’s largest educational technology event\, attracting school librarians\, innovations teachers\, and technology instructors.
URL:https://www.ctconventions.com/event/casl-ceca-2019-conference-and-exhbition/
LOCATION:Connecticut Convention Center\, 100 Columbus Blvd\, Hartford\, CT\, 06103\, United States
CATEGORIES:Conference,Featured,Private Event - Registered Attendees Only
ATTACH;FMTTYPE=image/jpeg:https://www.ctconventions.com/wp-content/uploads/2019/10/CASL-CECA-for-Web.jpg
END:VEVENT
END:VCALENDAR