BEGIN:VCALENDAR
VERSION:2.0
PRODID:-//Connecticut Convention Center - ECPv6.15.17//NONSGML v1.0//EN
CALSCALE:GREGORIAN
METHOD:PUBLISH
X-ORIGINAL-URL:https://www.ctconventions.com
X-WR-CALDESC:Events for Connecticut Convention Center
REFRESH-INTERVAL;VALUE=DURATION:PT1H
X-Robots-Tag:noindex
X-PUBLISHED-TTL:PT1H
BEGIN:VTIMEZONE
TZID:UTC
BEGIN:STANDARD
TZOFFSETFROM:+0000
TZOFFSETTO:+0000
TZNAME:UTC
DTSTART:20180101T000000
END:STANDARD
END:VTIMEZONE
BEGIN:VEVENT
DTSTART;TZID=UTC:20190531T190000
DTEND;TZID=UTC:20190531T233000
DTSTAMP:20260422T161752
CREATED:20190426T190823Z
LAST-MODIFIED:20190514T220857Z
UID:9197-1559329200-1559345400@www.ctconventions.com
SUMMARY:CESMMA 56
DESCRIPTION:PURCHASE TICKETS \nCES MMA 56 takes place May 31 at Connecticut Convention Center in Hartford\, Conn. It streams on UFC Fight Pass. In the main event\, featherweight champion Bruce Boyington takes on challenger Dan Dubuque. \nJohn Gotti III (3-0)\, grandson of the infamous mob boss of the same name\, is set to take on DeVon Mosley (3-2) in a welterweight bout at CES MMA 56. Nick Newell (14-2) is set to take on Kalvin Hackney (17-5) in a lightweight bout.  \n  \n  \nLocal Hotel Information \n\n\n\n\nMarriott Hartford Downtown \nDistance from CTCC: Attached\nRate:$119\nSuite Rate: $499\nCLICK HERE for Reservation\n\n\n\nThe Goodwin\nDistance from CTCC: 0.7 miles\, 4 minutes \nRate: $149/$179\nSuite Rate: $259\nCall 860-246-1881 to make a reservation\n\n\n\nHoliday Inn \nDistance from CTCC: 1.2 miles\, 3 minutes\nRate: $89\nSuite Rate: $159\nCLICK HERE for Reservation\n\n\n\n\n  \nHilton Garden Inn Hartford South/Glastonbury \nDistance from CTCC: 5.4 miles\, 8 minutes\nRate: $139\nCLICK HERE for Reservation \n\n\n\n\n 
URL:https://www.ctconventions.com/event/cesmma-56/
LOCATION:Connecticut Convention Center\, 100 Columbus Blvd\, Hartford\, CT\, 06103\, United States
CATEGORIES:Featured,Sports
ATTACH;FMTTYPE=image/jpeg:https://www.ctconventions.com/wp-content/uploads/2019/04/CES-252X262.jpg
END:VEVENT
END:VCALENDAR