BEGIN:VCALENDAR
VERSION:2.0
PRODID:-//Connecticut Convention Center - ECPv6.15.17//NONSGML v1.0//EN
CALSCALE:GREGORIAN
METHOD:PUBLISH
X-ORIGINAL-URL:https://www.ctconventions.com
X-WR-CALDESC:Events for Connecticut Convention Center
REFRESH-INTERVAL;VALUE=DURATION:PT1H
X-Robots-Tag:noindex
X-PUBLISHED-TTL:PT1H
BEGIN:VTIMEZONE
TZID:UTC
BEGIN:STANDARD
TZOFFSETFROM:+0000
TZOFFSETTO:+0000
TZNAME:UTC
DTSTART:20180101T000000
END:STANDARD
END:VTIMEZONE
BEGIN:VEVENT
DTSTART;VALUE=DATE:20190329
DTEND;VALUE=DATE:20190401
DTSTAMP:20260422T191817
CREATED:20160728T195856Z
LAST-MODIFIED:20190222T232058Z
UID:6931-1553817600-1554076799@www.ctconventions.com
SUMMARY:22nd Annual Northeast Fishing and Hunting Show
DESCRIPTION:Connecticut’s largest fishing & hunting show. Bring the whole family for a fun filled day of entertainment!  A 5\,000-gallon fish tank with live fishing demonstrations\, free seminars by fishing and hunting experts on many topics\, the latest gear for purchase\, no-cost appraisals of antique/collectible fishing lures and tackle\, and hands-on activities for all ages will be found at the 2019 Northeast Fishing & Hunting Show. \nTickets\nCASH ONLY\nAdults: $12\nChildren 5-12: $4\nChildren Under 5: Free \nSalute to Service! Join the US Department of Veterans Affairs on Saturday\, March 30\, for Military Appreciation Day at the Northeast Fishing & Hunting Show.  The first 200 Veterans with proper proof will gain free access to the show! Valid ID is required. \n  \nEvent Hours\nFriday: 12:00 p.m. – 8:00 p.m.\nSaturday: 10:00 a.m. – 7:00 p.m.\nSunday: 10:00 a.m. – 5:00 p.m.
URL:https://www.ctconventions.com/event/northeast-fishing-and-hunting-show/
LOCATION:Connecticut Convention Center – Exhibit Hall\, 100 Columbus Blvd.\, 3rd Floor\, Hartford\, CT\, 06103\, United States
CATEGORIES:Featured,Public Show
ATTACH;FMTTYPE=image/jpeg:https://www.ctconventions.com/wp-content/uploads/2016/07/FishHunt-ConvCtr-website-252x242.jpg
END:VEVENT
BEGIN:VEVENT
DTSTART;TZID=UTC:20190329T190000
DTEND;TZID=UTC:20190329T235900
DTSTAMP:20260422T191817
CREATED:20190307T005712Z
LAST-MODIFIED:20190307T225542Z
UID:9142-1553886000-1553903940@www.ctconventions.com
SUMMARY:CESMMA 55
DESCRIPTION:The East Coast’s No. 1 mixed martial arts promotion makes its long-awaited Connecticut debut later this month with a historic fight card featuring the region’s rising stars and familiar fan-favorites. \nLaunching a new era as the first promotion to host a sanctioned MMA event in the state of Connecticut\, CES MMA 55 invades the Connecticut Convention Center live on UFC Fight Pass Friday\, March 29th\, 2019. \nThe event features the highly-anticipated return of Hartford native and UFC flyweight contender Matt Bessette (22-9)\, heavyweight Parker Porter (8-5\, 4 KOs) of nearby New Britain\, and Philadelphia’s own Jeremiah Wells (6-1-1\, 2 KOs) in the first defense of his CES MMA World Welterweight Title. \nTICKET PRICES: \n$150\n$125\n$50\n$35 \nCLICK HERE TO PURCHASE TICKETS \n 
URL:https://www.ctconventions.com/event/cesmma-55/
LOCATION:Connecticut Convention Center – Exhibit Hall\, 100 Columbus Blvd.\, 3rd Floor\, Hartford\, CT\, 06103\, United States
CATEGORIES:Featured,Sports
ATTACH;FMTTYPE=image/jpeg:https://www.ctconventions.com/wp-content/uploads/2019/03/252-x-262.jpg
END:VEVENT
END:VCALENDAR