BEGIN:VCALENDAR
VERSION:2.0
PRODID:-//Connecticut Convention Center - ECPv6.15.17//NONSGML v1.0//EN
CALSCALE:GREGORIAN
METHOD:PUBLISH
X-ORIGINAL-URL:https://www.ctconventions.com
X-WR-CALDESC:Events for Connecticut Convention Center
REFRESH-INTERVAL;VALUE=DURATION:PT1H
X-Robots-Tag:noindex
X-PUBLISHED-TTL:PT1H
BEGIN:VTIMEZONE
TZID:UTC
BEGIN:STANDARD
TZOFFSETFROM:+0000
TZOFFSETTO:+0000
TZNAME:UTC
DTSTART:20180101T000000
END:STANDARD
END:VTIMEZONE
BEGIN:VEVENT
DTSTART;VALUE=DATE:20190221
DTEND;VALUE=DATE:20190225
DTSTAMP:20260422T204016
CREATED:20171013T020737Z
LAST-MODIFIED:20190222T231646Z
UID:8289-1550707200-1551052799@www.ctconventions.com
SUMMARY:Connecticut Flower & Garden Show 2019
DESCRIPTION:Spring in February arrives annually at the Connecticut Convention Center. Explore over 300 booths overflowing with fresh flowers\, plants\, herbs\, bulbs\, seeds\, gardening books\, garden equipments & much more. View beautifully landscaped gardens. Visit the Federated Garden Clubs of Connecticut design & horticulture competition. Attend over 80 hours of seminars and demonstrations. \nEvent Hours\nThursday: 10:00 a.m. – 7:00 p.m.\nFriday: 10:00 a.m. – 8:00 p.m.\nSaturday: 10:00 a.m. – 8:00 p.m.\nSunday: 10:00 a.m. – 5:00 p.m. \nTickets\nCASH ONLY\nAdults: $18\nChildren (5-12): $5\nChildren (Under 5): Free\nSeniors (62 and over): $16 – Thursday and Friday Only
URL:https://www.ctconventions.com/event/ct-flower-show/
LOCATION:Connecticut Convention Center\, 100 Columbus Blvd\, Hartford\, CT\, 06103\, United States
CATEGORIES:Featured,Public Show
ATTACH;FMTTYPE=image/jpeg:https://www.ctconventions.com/wp-content/uploads/2017/10/WebsiteAd252x242ConvCtr.jpg
END:VEVENT
END:VCALENDAR