BEGIN:VCALENDAR
VERSION:2.0
PRODID:-//Connecticut Convention Center - ECPv6.15.17//NONSGML v1.0//EN
CALSCALE:GREGORIAN
METHOD:PUBLISH
X-WR-CALNAME:Connecticut Convention Center
X-ORIGINAL-URL:https://www.ctconventions.com
X-WR-CALDESC:Events for Connecticut Convention Center
REFRESH-INTERVAL;VALUE=DURATION:PT1H
X-Robots-Tag:noindex
X-PUBLISHED-TTL:PT1H
BEGIN:VTIMEZONE
TZID:UTC
BEGIN:STANDARD
TZOFFSETFROM:+0000
TZOFFSETTO:+0000
TZNAME:UTC
DTSTART:20170101T000000
END:STANDARD
END:VTIMEZONE
BEGIN:VEVENT
DTSTART;VALUE=DATE:20180929
DTEND;VALUE=DATE:20181003
DTSTAMP:20260423T024222
CREATED:20180625T201812Z
LAST-MODIFIED:20180907T174815Z
UID:8699-1538179200-1538524799@www.ctconventions.com
SUMMARY:ASTC 2018 Annual Conference
DESCRIPTION:The Association of Science-Technology Centers (ASTC) is a global organization providing collective voice\, professional support\, and programming opportunities for science centers\, museums\, and related institutions\, whose innovative approaches to science learning inspire people of all ages about the wonders and the meaning of science in their lives. Through strategic alliances and global partnerships\, ASTC strives to increase awareness of the valuable contributions its members make to their communities and the field of informal STEM learning. \nFounded in 1973\, ASTC now represents over 600 members in nearly 50 countries\, including not only science centers and museums\, but also nature centers\, aquariums\, planetariums\, zoos\, botanical gardens\, and natural history and children’s museums\, as well as companies\, consultants\, and other organizations that share an interest in informal science education.
URL:https://www.ctconventions.com/event/astc-annual-conference/
LOCATION:Connecticut Convention Center\, 100 Columbus Blvd\, Hartford\, CT\, 06103\, United States
CATEGORIES:Conference,Featured,Private Event - Registered Attendees Only
ATTACH;FMTTYPE=image/jpeg:https://www.ctconventions.com/wp-content/uploads/2018/06/ASTC-2018-Web.jpg
END:VEVENT
BEGIN:VEVENT
DTSTART;VALUE=DATE:20181004
DTEND;VALUE=DATE:20181007
DTSTAMP:20260423T024222
CREATED:20180712T232125Z
LAST-MODIFIED:20181003T183242Z
UID:8743-1538611200-1538870399@www.ctconventions.com
SUMMARY:National Council of Teachers of Mathematics Regional Conference & Expo
DESCRIPTION:NCTM Regional Conferences & Expositions are an opportunity to share knowledge and learn with leaders in the field of mathematics education. Gain new strategies to unleash the mathematical mind of every student when you join NCTM in Hartford this fall. \n \nInsightful Education Sessions\, Dynamic Exhibits\n\nImprove your knowledge and skills with high-quality professional development and hands-on activities\nConnect and share with peers from throughout the region\nCollect free activities to engage and excite your students\nExplore an exhibit hall packed with exciting learning and giveaways\nLearn from education leaders and test the latest educational resources\n\nWhat you’ll get: \n\nInnovative ideas you can immediately use\nUpdates on classroom best practices from recognized innovators\nIn-depth discussion about the latest education resources\nKnowledge-sharing with like-minded peers\nInteraction with the latest tools and products in the exhibit hall
URL:https://www.ctconventions.com/event/nctm/
LOCATION:Connecticut Convention Center\, 100 Columbus Blvd\, Hartford\, CT\, 06103\, United States
CATEGORIES:Conference,Expo,Featured
ATTACH;FMTTYPE=image/jpeg:https://www.ctconventions.com/wp-content/uploads/2018/07/NCTM-Logo.jpg
END:VEVENT
BEGIN:VEVENT
DTSTART;VALUE=DATE:20181010
DTEND;VALUE=DATE:20181014
DTSTAMP:20260423T024222
CREATED:20180712T231612Z
LAST-MODIFIED:20181004T224457Z
UID:8740-1539129600-1539475199@www.ctconventions.com
SUMMARY:National Indian Education Association Convention & Tradeshow
DESCRIPTION:NIEA is committed to ensuring that educators\, advocates\, and students are able to access the resources needed to help improve the quality of Native education. \nThe 2018 NIEA Convention theme\, “Building Education Nations through Culture\, Creativity\, and Critical Thought“\, recognizes the role educators and communities play in shaping the future leaders of Native education. The three-day convention will include innovative participatory workshops\, research presentations\, poster sessions\, and keynote addresses by prominent educators and advocates. Join us as we celebrate the work being done in Native communities!
URL:https://www.ctconventions.com/event/niea/
LOCATION:Connecticut Convention Center\, 100 Columbus Blvd\, Hartford\, CT\, 06103\, United States
CATEGORIES:Convention,Featured
ATTACH;FMTTYPE=image/jpeg:https://www.ctconventions.com/wp-content/uploads/2018/07/NIEA2018-convention-logo-252x262.jpg
END:VEVENT
BEGIN:VEVENT
DTSTART;VALUE=DATE:20181019
DTEND;VALUE=DATE:20181022
DTSTAMP:20260423T024222
CREATED:20170421T223505Z
LAST-MODIFIED:20181017T002149Z
UID:7705-1539907200-1540166399@www.ctconventions.com
SUMMARY:7th Annual Tommy's Tattoo Convention
DESCRIPTION:You are invited to join Tom Ringwalt and some of the most talented tattoo artists in the world for the 7th Annual “Tommy’s Tattoo Convention”. \nTommy’s Tattoo Convention has been attended by over 225 international\, national and local professional tattoo artists\, over 30 vendors\, and approximately 4\,000 fans throughout this three-day weekend. \nEvent Hours\nFriday: 4:00 p.m. – 11:00 p.m.\nSaturday: 12:00 p.m. – 11:00 p.m.\nSunday: 12:00 p.m. – 8:00 p.m. \nTickets\nOne-Day: $17 (online pre-sale) | $20 (at the door)\nThree-Day: $37 (online pre-sale) | $40 (at the door)\nChildren (12 & Under): Free \nFood & Beverage Information
URL:https://www.ctconventions.com/event/tommys-tattoo-convention/
LOCATION:Connecticut Convention Center – Exhibit Hall\, 100 Columbus Blvd.\, 3rd Floor\, Hartford\, CT\, 06103\, United States
CATEGORIES:Convention,Featured,Public Show
ATTACH;FMTTYPE=image/png:https://www.ctconventions.com/wp-content/uploads/2016/05/Tommys-Tattoo-Convention_Web.png
END:VEVENT
END:VCALENDAR