BEGIN:VCALENDAR
VERSION:2.0
PRODID:-//Connecticut Convention Center - ECPv6.15.17//NONSGML v1.0//EN
CALSCALE:GREGORIAN
METHOD:PUBLISH
X-ORIGINAL-URL:https://www.ctconventions.com
X-WR-CALDESC:Events for Connecticut Convention Center
REFRESH-INTERVAL;VALUE=DURATION:PT1H
X-Robots-Tag:noindex
X-PUBLISHED-TTL:PT1H
BEGIN:VTIMEZONE
TZID:UTC
BEGIN:STANDARD
TZOFFSETFROM:+0000
TZOFFSETTO:+0000
TZNAME:UTC
DTSTART:20170101T000000
END:STANDARD
END:VTIMEZONE
BEGIN:VEVENT
DTSTART;VALUE=DATE:20180531
DTEND;VALUE=DATE:20180604
DTSTAMP:20260423T082524
CREATED:20180504T004713Z
LAST-MODIFIED:20180530T185236Z
UID:8599-1527724800-1528070399@www.ctconventions.com
SUMMARY:Delta Sigma Theta Eastern Regional Conference
DESCRIPTION:
URL:https://www.ctconventions.com/event/delta-sigma-theta-eastern-regional-conference/
LOCATION:Connecticut Convention Center\, 100 Columbus Blvd\, Hartford\, CT\, 06103\, United States
CATEGORIES:Conference,Featured
ATTACH;FMTTYPE=image/jpeg:https://www.ctconventions.com/wp-content/uploads/2018/05/DST.jpg
END:VEVENT
BEGIN:VEVENT
DTSTART;VALUE=DATE:20180625
DTEND;VALUE=DATE:20180629
DTSTAMP:20260423T082524
CREATED:20180328T183835Z
LAST-MODIFIED:20180430T191441Z
UID:8492-1529884800-1530230399@www.ctconventions.com
SUMMARY:A&WMA 111th Conference & Exhibition
DESCRIPTION:The Air & Waste Management Association’s Annual Conference & Exhibition (ACE) is the most comprehensive conference on environmental technology and regulation.  It brings environmental professionals from around the world together to hear technical presentations on cutting edge topics and to interact with exhibiting businesses and organizations demonstrating the latest environmental products and services.  Through its programming\, A&WMA strives to address top environmental issues\, offer access to leading subject experts and maintain a neutral forum for information exchange.
URL:https://www.ctconventions.com/event/awma/
LOCATION:Connecticut Convention Center – Exhibit Hall\, 100 Columbus Blvd.\, 3rd Floor\, Hartford\, CT\, 06103\, United States
CATEGORIES:Conference,Featured,Trade Show
ATTACH;FMTTYPE=image/jpeg:https://www.ctconventions.com/wp-content/uploads/2018/03/rsz_ace_2018_vector_logo-WEBSITE.jpg
END:VEVENT
END:VCALENDAR