BEGIN:VCALENDAR
VERSION:2.0
PRODID:-//Connecticut Convention Center - ECPv6.15.17//NONSGML v1.0//EN
CALSCALE:GREGORIAN
METHOD:PUBLISH
X-ORIGINAL-URL:https://www.ctconventions.com
X-WR-CALDESC:Events for Connecticut Convention Center
REFRESH-INTERVAL;VALUE=DURATION:PT1H
X-Robots-Tag:noindex
X-PUBLISHED-TTL:PT1H
BEGIN:VTIMEZONE
TZID:UTC
BEGIN:STANDARD
TZOFFSETFROM:+0000
TZOFFSETTO:+0000
TZNAME:UTC
DTSTART:20170101T000000
END:STANDARD
END:VTIMEZONE
BEGIN:VEVENT
DTSTART;VALUE=DATE:20180422
DTEND;VALUE=DATE:20180423
DTSTAMP:20260423T113406
CREATED:20161222T012446Z
LAST-MODIFIED:20180420T011742Z
UID:7253-1524355200-1524441599@www.ctconventions.com
SUMMARY:CT Barber Expo
DESCRIPTION:Over 450 Barbers will compete in a variety of categories ranging from Freestyle with Color\, Freestyle Without Color\, Speed Challenge\, Theme Challenge and Self Haircutting Challenge. Attendance at last years battle was over 5\,800 people. \nThis years Barber Expo will feature an incredible Barber Battle with several categories\, Educational classes by the industry’s top barbers\, vendor booths\, product demonstrations\, barbershop quartet\, platform artists and giveaways. \n  \n  \n  \nEvent Hours\n Black & Gold Affair Pre-Party & Fashion Show: Saturday\, April 21 from 9:30 p.m. – 2:00 a.m.\n Education Seminar: Sunday\, April 22 from 8:00 a.m. – 1:00 p.m.\n Show Floor and Competition: Sunday\, April 22 from 2:00 p.m. – 9:00 p.m. \nTickets\n Black & Gold Affair Pre-Party & Fashion Show: $25\n General Admission: $35\n Education Seminar: $55\n VIP Admission Ticket: $140\n Education Seminar & General Admission: $80 \n 
URL:https://www.ctconventions.com/event/ct-barber-expo/
LOCATION:Connecticut Convention Center – Exhibit Hall\, 100 Columbus Blvd.\, 3rd Floor\, Hartford\, CT\, 06103\, United States
CATEGORIES:Featured,Public Show,Trade Show
ATTACH;FMTTYPE=image/jpeg:https://www.ctconventions.com/wp-content/uploads/2016/02/CT-Barber-Expo-2016.jpg
END:VEVENT
END:VCALENDAR