BEGIN:VCALENDAR
VERSION:2.0
PRODID:-//Connecticut Convention Center - ECPv6.15.17//NONSGML v1.0//EN
CALSCALE:GREGORIAN
METHOD:PUBLISH
X-ORIGINAL-URL:https://www.ctconventions.com
X-WR-CALDESC:Events for Connecticut Convention Center
REFRESH-INTERVAL;VALUE=DURATION:PT1H
X-Robots-Tag:noindex
X-PUBLISHED-TTL:PT1H
BEGIN:VTIMEZONE
TZID:UTC
BEGIN:STANDARD
TZOFFSETFROM:+0000
TZOFFSETTO:+0000
TZNAME:UTC
DTSTART:20170101T000000
END:STANDARD
END:VTIMEZONE
BEGIN:VEVENT
DTSTART;VALUE=DATE:20180322
DTEND;VALUE=DATE:20180326
DTSTAMP:20260423T130607
CREATED:20171013T022241Z
LAST-MODIFIED:20180313T181107Z
UID:8299-1521676800-1522022399@www.ctconventions.com
SUMMARY:Stitches United 2018
DESCRIPTION:STITCHES United\, a new kind of crafting expo\, is bringing together knitting\, crochet\, sewing\, quilting & MORE all under one roof!  This show is for multi-crafters\, those not defined by one craft or even by one medium.  And so\, so best serve these creative appetites\, STITCHES United continues in its second year\, an additional\, expanded show with stimulating classes and shopping for all – knitters\, crocheters\, weavers\, sewers\, quilters and others interested in all things yarn & fabric.
URL:https://www.ctconventions.com/event/stitches-united-2018/
LOCATION:Connecticut Convention Center\, 100 Columbus Blvd\, Hartford\, CT\, 06103\, United States
CATEGORIES:Featured,Public Show
ATTACH;FMTTYPE=image/jpeg:https://www.ctconventions.com/wp-content/uploads/2017/10/Stitches-2018.jpg
END:VEVENT
END:VCALENDAR