BEGIN:VCALENDAR
VERSION:2.0
PRODID:-//Connecticut Convention Center - ECPv6.15.17//NONSGML v1.0//EN
CALSCALE:GREGORIAN
METHOD:PUBLISH
X-WR-CALNAME:Connecticut Convention Center
X-ORIGINAL-URL:https://www.ctconventions.com
X-WR-CALDESC:Events for Connecticut Convention Center
REFRESH-INTERVAL;VALUE=DURATION:PT1H
X-Robots-Tag:noindex
X-PUBLISHED-TTL:PT1H
BEGIN:VTIMEZONE
TZID:UTC
BEGIN:STANDARD
TZOFFSETFROM:+0000
TZOFFSETTO:+0000
TZNAME:UTC
DTSTART:20160101T000000
END:STANDARD
END:VTIMEZONE
BEGIN:VEVENT
DTSTART;VALUE=DATE:20170303
DTEND;VALUE=DATE:20170306
DTSTAMP:20260424T074010
CREATED:20160728T201116Z
LAST-MODIFIED:20170303T194645Z
UID:6937-1488499200-1488758399@www.ctconventions.com
SUMMARY:70th Connecticut Home & Remodeling Show
DESCRIPTION:Connecticut’s largest and longest running Home and Remodeling Show offers residents of Connecticut and western Massachusetts a one-stop shopping experience in home products and services. You will be able to find a wide variety of home improvement\, building\, and remodeling resources featuring local and national vendors featuring thousands of ideas for your home and yard. \nBecause this is the show that is produced locally by the Home Builders & Remodelers Association of Central Connecticut\, you have the confidence knowing that this home show represents many of HBRA’s members and the people we do business with everyday. \nTickets\n General Admission: $12\n Children (16 & under): Free\n Seniors (65+) & Military: $9 \nEvent Hours\n Friday: 3:00 p.m. – 8:00 p.m.\n Saturday: 10:00 a.m. – 8:00 p.m.\n Sunday: 10:00 a.m. – 5:00 p.m. \n 
URL:https://www.ctconventions.com/event/70th-connecticut-home-remodeling-show/
LOCATION:Connecticut Convention Center – Exhibit Hall\, 100 Columbus Blvd.\, 3rd Floor\, Hartford\, CT\, 06103\, United States
CATEGORIES:Featured,Public Show
ATTACH;FMTTYPE=image/jpeg:https://www.ctconventions.com/wp-content/uploads/2016/07/HBRA-Home-Show.jpg
END:VEVENT
BEGIN:VEVENT
DTSTART;VALUE=DATE:20170324
DTEND;VALUE=DATE:20170327
DTSTAMP:20260424T074010
CREATED:20161216T204731Z
LAST-MODIFIED:20170308T212630Z
UID:7230-1490313600-1490572799@www.ctconventions.com
SUMMARY:2017 Connecticut Golf Show
DESCRIPTION:The Connecticut Golf Show is the can’t-miss event of the year for golfers in the Hartford metropolitan area\, giving golfers their first chance to see and swing the clubs which will be the talk of the golf world in 2017!  Amazing front door freebies\, free indoor driving range lined with expert reps from the manufacturers in the game\, compete in fun skills contests\, FREE GOLF and more! \nTickets\nAdults: $13\nSeniors (60+): $11\nChildren (12 & Under): Free \nEvent Hours\nFriday: 11:00 a.m. – 5:00 p.m.\nSaturday: 9:00 a.m. – 5:00 p.m.\nSunday: 9:00 a.m. – 4:00 p.m. \n 
URL:https://www.ctconventions.com/event/connecticut-golf-show-2017/
LOCATION:Connecticut Convention Center – Exhibit Hall\, 100 Columbus Blvd.\, 3rd Floor\, Hartford\, CT\, 06103\, United States
CATEGORIES:Featured,Public Show
ATTACH;FMTTYPE=image/jpeg:https://www.ctconventions.com/wp-content/uploads/2016/12/CT-Golf-Show-2017.jpg
END:VEVENT
BEGIN:VEVENT
DTSTART;VALUE=DATE:20170331
DTEND;VALUE=DATE:20170403
DTSTAMP:20260424T074010
CREATED:20161216T205624Z
LAST-MODIFIED:20170208T213857Z
UID:7232-1490918400-1491177599@www.ctconventions.com
SUMMARY:International Gem & Jewelry Show
DESCRIPTION:Celebrating its 50th anniversary\, the International Gem & Jewelry Show is the biggest and longest running jewelry show in the US. The show is a fabulous exhibition that brings hundreds of companies\, designers and manufacturers together to provide customers with the best high-quality jewelry selection at prices that can fit everyone’s budget. Millions of customers have found their sparkle! You buy directly from award winning designers and manufacturers saving you money! Diamond Engagement rings\, gorgeous every day rings with fiery gemstones\, loose gem stones\, necklaces\, watches\, trending accessories including stunning “hair jewelry”. From $5 to $50\,000 there  is something for everyone. Once you discover the International Jewelry Show you will never want to buy jewelry anywhere else.   \n  \nTickets\n Adults: $8\n Children Under 9 Not Permitted \nEvent Hours\n Friday: 12:00 p.m.- 6:00 p.m.\n Saturday: 10:00 a.m.- 6:00 p.m. \n Sunday: 11:00 a.m.- 5:00 p.m. \n  \nhttp://www.ctconventions.com/wp-content/uploads/2016/12/Gem-Jewelry.mp4
URL:https://www.ctconventions.com/event/international-gem-and-jewelry-show/
LOCATION:Connecticut Convention Center – Exhibit Hall\, 100 Columbus Blvd.\, 3rd Floor\, Hartford\, CT\, 06103\, United States
CATEGORIES:Featured,Public Show
ATTACH;FMTTYPE=image/jpeg:https://www.ctconventions.com/wp-content/uploads/2016/12/Gem-Jewlery-Web.jpg
END:VEVENT
END:VCALENDAR