BEGIN:VCALENDAR
VERSION:2.0
PRODID:-//Connecticut Convention Center - ECPv6.15.17//NONSGML v1.0//EN
CALSCALE:GREGORIAN
METHOD:PUBLISH
X-ORIGINAL-URL:https://www.ctconventions.com
X-WR-CALDESC:Events for Connecticut Convention Center
REFRESH-INTERVAL;VALUE=DURATION:PT1H
X-Robots-Tag:noindex
X-PUBLISHED-TTL:PT1H
BEGIN:VTIMEZONE
TZID:UTC
BEGIN:STANDARD
TZOFFSETFROM:+0000
TZOFFSETTO:+0000
TZNAME:UTC
DTSTART:20220101T000000
END:STANDARD
END:VTIMEZONE
BEGIN:VEVENT
DTSTART;VALUE=DATE:20230414
DTEND;VALUE=DATE:20230417
DTSTAMP:20260421T122455
CREATED:20230412T194937Z
LAST-MODIFIED:20230412T194937Z
UID:10461-1681430400-1681689599@www.ctconventions.com
SUMMARY:Hot Tub & Swim Spa Blowout Expo
DESCRIPTION:Save Big on a huge selection of Hot Tubs and Swim Spas from major brands!  Over 40 Hot Tubs and Swim Spas will be on display from 5 major brands at huge discounts.  Financing is available (with approved credit). \nEvent Hours: \nFRI: 4p-8p \nSAT: 10a-8p \nSUN: 10a-5p \nShow Admission Is Free
URL:https://www.ctconventions.com/event/hot-tub-swim-spa-blowout-expo-2/
LOCATION:Connecticut Convention Center – Exhibit Hall B\, 100 Columbus Blvd\, Hartford\, CT\, 06103\, United States
CATEGORIES:Expo,Public Show
ATTACH;FMTTYPE=image/jpeg:https://www.ctconventions.com/wp-content/uploads/2023/04/250x250.jpg
END:VEVENT
END:VCALENDAR