BEGIN:VCALENDAR
VERSION:2.0
PRODID:-//Connecticut Convention Center - ECPv6.15.17//NONSGML v1.0//EN
CALSCALE:GREGORIAN
METHOD:PUBLISH
X-ORIGINAL-URL:https://www.ctconventions.com
X-WR-CALDESC:Events for Connecticut Convention Center
REFRESH-INTERVAL;VALUE=DURATION:PT1H
X-Robots-Tag:noindex
X-PUBLISHED-TTL:PT1H
BEGIN:VTIMEZONE
TZID:UTC
BEGIN:STANDARD
TZOFFSETFROM:+0000
TZOFFSETTO:+0000
TZNAME:UTC
DTSTART:20210101T000000
END:STANDARD
END:VTIMEZONE
BEGIN:VEVENT
DTSTART;VALUE=DATE:20220827
DTEND;VALUE=DATE:20220829
DTSTAMP:20260422T015812
CREATED:20190612T193401Z
LAST-MODIFIED:20220817T210953Z
UID:9256-1661558400-1661731199@www.ctconventions.com
SUMMARY:RetroWorld Expo
DESCRIPTION:RetroWorld Expo takes place at the amazing Connecticut Convention Center in Hartford\, CT – the largest convention facility between NY and Boston. RWX spans over 60\,000 SF of gaming and fun! Tickets to RetroWorld Expo (RWX) can be purchased through the website at www.retroworldexpo.com. \n  \nRetroWorld Expo is an all-encompassing gaming convention. You can expect to find all the following at this year’s show: \n\n100s of vendors selling merchandise\nMeet Youtube Stars & Industry Guests\nRetro Gaming\nCosplay\nLive Music\nLive Wrestling\nArcade Room\nLive Auctions\nGameshows\neSports Gaming Tournaments\nTCG Tournaments\nNewest Indie Games\nAnd much more!\n\nFor our concessions menu click the link below: \nRetroWorld Concessions Menu \n  \nFor information on being an vendor\, panelist or volunteer please visit www.retroworldexpo.com – you can apply online. \nHotel blocks are limited. Please visit www.retroworldexpo.com for more info \n  \nContact Info: \nFacebook: www.facebook.com/retroworldexpo \nInstagram: @retroworldexpo \nTwitter: @retroworldexpo \nEmail: info@retroworldexpo.com
URL:https://www.ctconventions.com/event/retroworld-expo-2/
LOCATION:Connecticut Convention Center\, 100 Columbus Blvd\, Hartford\, CT\, 06103\, United States
CATEGORIES:Expo,Public Show
ATTACH;FMTTYPE=image/jpeg:https://www.ctconventions.com/wp-content/uploads/2019/06/Retro-World-1.jpg
END:VEVENT
END:VCALENDAR