BEGIN:VCALENDAR
VERSION:2.0
PRODID:-//Connecticut Convention Center - ECPv6.15.17//NONSGML v1.0//EN
CALSCALE:GREGORIAN
METHOD:PUBLISH
X-WR-CALNAME:Connecticut Convention Center
X-ORIGINAL-URL:https://www.ctconventions.com
X-WR-CALDESC:Events for Connecticut Convention Center
REFRESH-INTERVAL;VALUE=DURATION:PT1H
X-Robots-Tag:noindex
X-PUBLISHED-TTL:PT1H
BEGIN:VTIMEZONE
TZID:UTC
BEGIN:STANDARD
TZOFFSETFROM:+0000
TZOFFSETTO:+0000
TZNAME:UTC
DTSTART:20210101T000000
END:STANDARD
END:VTIMEZONE
BEGIN:VEVENT
DTSTART;VALUE=DATE:20220316
DTEND;VALUE=DATE:20220318
DTSTAMP:20260422T100332
CREATED:20211223T202718Z
LAST-MODIFIED:20220207T215721Z
UID:10029-1647388800-1647561599@www.ctconventions.com
SUMMARY:Northeast Hardscape Expo
DESCRIPTION:The Northeast Hardscape Expo is the largest hardscape tradeshow and two-day educational forum in the Northeast. \nHours:\nMarch 16\, 2022: 8am-7pm\nMarch 17\, 2022: 8am-2pm \nFor COVID-19 policies\, please contact bob@yoffeexpo.com
URL:https://www.ctconventions.com/event/2022-hardscape-expo/
LOCATION:Connecticut Convention Center\, 100 Columbus Blvd\, Hartford\, CT\, 06103\, United States
CATEGORIES:Expo,Private Event - Registered Attendees Only
ATTACH;FMTTYPE=image/jpeg:https://www.ctconventions.com/wp-content/uploads/2021/12/Hardscapes.jpeg
END:VEVENT
END:VCALENDAR