BEGIN:VCALENDAR
VERSION:2.0
PRODID:-//Connecticut Convention Center - ECPv6.15.17//NONSGML v1.0//EN
CALSCALE:GREGORIAN
METHOD:PUBLISH
X-WR-CALNAME:Connecticut Convention Center
X-ORIGINAL-URL:https://www.ctconventions.com
X-WR-CALDESC:Events for Connecticut Convention Center
REFRESH-INTERVAL;VALUE=DURATION:PT1H
X-Robots-Tag:noindex
X-PUBLISHED-TTL:PT1H
BEGIN:VTIMEZONE
TZID:UTC
BEGIN:STANDARD
TZOFFSETFROM:+0000
TZOFFSETTO:+0000
TZNAME:UTC
DTSTART:20200101T000000
END:STANDARD
END:VTIMEZONE
BEGIN:VEVENT
DTSTART;VALUE=DATE:20211105
DTEND;VALUE=DATE:20211108
DTSTAMP:20260422T160428
CREATED:20210928T175120Z
LAST-MODIFIED:20210928T175120Z
UID:9919-1636070400-1636329599@www.ctconventions.com
SUMMARY:Jenks Fall Home Show
DESCRIPTION:The 42nd Annual Jenks Productions Fall Connecticut Home Show in Hartford\, Connecticut from November 5th-November 7th\, 2021 is the largest home expo in New England and is conveniently located at the Connecticut Convention Center in Hartford.  If you are planning on remodeling or renovating your home\, this is the home improvement event you can’t afford to miss.  Whether it’s finding a house builder for new home construction or finding a general contractor for a kitchen or bathroom remodel\, there are multiple home improvement contractors you can connect with at our Hartford Connecticut Home Fair.  Come visit the CT Fall Home Show to find the right products and the best companies all gathered together at the largest of fall home shows in the Northeast. \n\nEvent Hours:\nFriday: 5pm-9pm\nSaturday: 10am-6pm\nSunday: 10am-5pm \nTicket Prices:\nAdults: $10\nSeniors: $8\n12 & Under: Free
URL:https://www.ctconventions.com/event/jenks-fall-home-show-21/
LOCATION:Connecticut Convention Center – Exhibit Hall\, 100 Columbus Blvd.\, 3rd Floor\, Hartford\, CT\, 06103\, United States
CATEGORIES:Expo,Public Show
ATTACH;FMTTYPE=image/jpeg:https://www.ctconventions.com/wp-content/uploads/2021/09/CTFall_DigiMarquee_650x505.jpg
END:VEVENT
END:VCALENDAR