BEGIN:VCALENDAR
VERSION:2.0
PRODID:-//Connecticut Convention Center - ECPv6.15.17//NONSGML v1.0//EN
CALSCALE:GREGORIAN
METHOD:PUBLISH
X-ORIGINAL-URL:https://www.ctconventions.com
X-WR-CALDESC:Events for Connecticut Convention Center
REFRESH-INTERVAL;VALUE=DURATION:PT1H
X-Robots-Tag:noindex
X-PUBLISHED-TTL:PT1H
BEGIN:VTIMEZONE
TZID:UTC
BEGIN:STANDARD
TZOFFSETFROM:+0000
TZOFFSETTO:+0000
TZNAME:UTC
DTSTART:20190101T000000
END:STANDARD
END:VTIMEZONE
BEGIN:VEVENT
DTSTART;VALUE=DATE:20200311
DTEND;VALUE=DATE:20200313
DTSTAMP:20260423T215521
CREATED:20191230T234659Z
LAST-MODIFIED:20200121T200512Z
UID:9553-1583884800-1584057599@www.ctconventions.com
SUMMARY:Northeast Hardscapes Expo
DESCRIPTION:The Northeast Hardscape Expo is a two-day Trade Show & Educational Forum that is designed specifically for hardscape professionals. Attendees will have the opportunity to interact with other  industry professionals\, as well as\, manufacturers\, dealers\, equipment suppliers\, stone suppliers\, mulch suppliers and other hardscape/landscape related companies and suppliers. Certification classes will be offered for all levels and professional development seminars will feature current trends\, best practices and assorted business-building and profitability ideas. Watch live demonstrations and the Northeast Installer Competition from the show floor. The competition winner will represent the region in the 2020 Hardscape North America  National Championship. Immediately following the competition on Wednesday night\, the competition finalists will be recognized for their outstanding hardscape projects in residential and commercial applications. After which\, please join us for a networking reception right on the exhibit floor.
URL:https://www.ctconventions.com/event/northeast-hardscape-expo/
LOCATION:Connecticut Convention Center\, 100 Columbus Blvd\, Hartford\, CT\, 06103\, United States
CATEGORIES:Expo
ATTACH;FMTTYPE=image/jpeg:https://www.ctconventions.com/wp-content/uploads/2019/12/Hardscape-Expo-for-Web.jpg
END:VEVENT
END:VCALENDAR