BEGIN:VCALENDAR
VERSION:2.0
PRODID:-//Connecticut Convention Center - ECPv6.15.17//NONSGML v1.0//EN
CALSCALE:GREGORIAN
METHOD:PUBLISH
X-WR-CALNAME:Connecticut Convention Center
X-ORIGINAL-URL:https://www.ctconventions.com
X-WR-CALDESC:Events for Connecticut Convention Center
REFRESH-INTERVAL;VALUE=DURATION:PT1H
X-Robots-Tag:noindex
X-PUBLISHED-TTL:PT1H
BEGIN:VTIMEZONE
TZID:UTC
BEGIN:STANDARD
TZOFFSETFROM:+0000
TZOFFSETTO:+0000
TZNAME:UTC
DTSTART:20190101T000000
END:STANDARD
END:VTIMEZONE
BEGIN:VEVENT
DTSTART;TZID=UTC:20200104T110000
DTEND;TZID=UTC:20200105T170000
DTSTAMP:20260424T010542
CREATED:20191105T000521Z
LAST-MODIFIED:20191105T000521Z
UID:9476-1578135600-1578243600@www.ctconventions.com
SUMMARY:2020 Connecticut Wedding & Bridal Expo
DESCRIPTION:The 35th Annual 2020 Connecticut Wedding & Bridal Expo is the largest bridal & wedding expo on the East Coast\, and quite possibly in the country. With a proven format of combining wedding and bridal fashion shows with a huge vendor presence comprised of every conceivable wedding product and service\, our Hartford bridal show offers couples the unique opportunity to shop for every facet of their wedding needs. Find wedding dresses and shoes\, to wedding invitations and venues\, all in one location. What a time saver for busy working couples to find everything they need in one weekend at one wedding event! And because we all love lots of options\, our wedding extravaganza organizers have ensured that there are not just one\, but several options for each wedding-related product or service providing a wide variety of styles and prices to suit every taste and budget. \nThis extensive Connecticut wedding event is now held at the Connecticut Convention Center. This provides our visitors easy access to the venue from I-91 & I-84. Participating sponsors include\, Fox 61\, NEWS8\, GODJ Entertainment and the Hartford Courant.
URL:https://www.ctconventions.com/event/2020-connecticut-wedding-bridal-expo/
LOCATION:Connecticut Convention Center\, 100 Columbus Blvd\, Hartford\, CT\, 06103\, United States
CATEGORIES:Expo
ATTACH;FMTTYPE=image/jpeg:https://www.ctconventions.com/wp-content/uploads/2019/11/CTBridal_CTCC_Digi_252x262.jpg
END:VEVENT
END:VCALENDAR