BEGIN:VCALENDAR
VERSION:2.0
PRODID:-//Connecticut Convention Center - ECPv6.15.17//NONSGML v1.0//EN
CALSCALE:GREGORIAN
METHOD:PUBLISH
X-ORIGINAL-URL:https://www.ctconventions.com
X-WR-CALDESC:Events for Connecticut Convention Center
REFRESH-INTERVAL;VALUE=DURATION:PT1H
X-Robots-Tag:noindex
X-PUBLISHED-TTL:PT1H
BEGIN:VTIMEZONE
TZID:UTC
BEGIN:STANDARD
TZOFFSETFROM:+0000
TZOFFSETTO:+0000
TZNAME:UTC
DTSTART:20150101T000000
END:STANDARD
END:VTIMEZONE
BEGIN:VEVENT
DTSTART;TZID=UTC:20161111T190000
DTEND;TZID=UTC:20161111T233000
DTSTAMP:20260419T184254
CREATED:20160902T210011Z
LAST-MODIFIED:20160908T224804Z
UID:6989-1478890800-1478907000@www.ctconventions.com
SUMMARY:La Explosion Musical De Bomba 2016 staring Plan B
DESCRIPTION:Connecticut’s Only FM Spanish Radio stations Bomba Radio presents La Explosion Musical De Bomba 2016 staring Plan B!  \nParty with this hot Puerto Rican Reggaeton duo\, consisting of Chencho and Maldy who not only are cousins\, but have performed many hit songs. La Explosion Musical De Bomba 2016 will be a night to remember! In addition to Plan B\,  Connecticut artist Shorty C will perform his hit songs\, and more national acts to be announced soon. Plus Bomba mix Dj’s Matrix and Kabeza will be keeping the night hot. \nBomba Radio 97.1/Hartford\, 99.5/Waterbury\, 104.5/Bridgeport/New London\, 98.5/Meriden\,  104.5/Springfield\, MA \n  \nTickets General Admission: $35 (plus taxes) VIP Admission: $55 (plus taxes) \n  \nEvent Hours Doors open: 7:00 p.m. \n  \nPlease note this show is all-ages\, general admission and standing-room only.
URL:https://www.ctconventions.com/event/la-explosion/
LOCATION:Connecticut Convention Center – Exhibit Hall\, 100 Columbus Blvd.\, 3rd Floor\, Hartford\, CT\, 06103\, United States
CATEGORIES:Concert,Featured
ATTACH;FMTTYPE=image/jpeg:https://www.ctconventions.com/wp-content/uploads/2016/09/LaExplosion-252x262.jpeg
END:VEVENT
END:VCALENDAR