BEGIN:VCALENDAR
VERSION:2.0
PRODID:-//Connecticut Convention Center - ECPv6.15.17//NONSGML v1.0//EN
CALSCALE:GREGORIAN
METHOD:PUBLISH
X-ORIGINAL-URL:https://www.ctconventions.com
X-WR-CALDESC:Events for Connecticut Convention Center
REFRESH-INTERVAL;VALUE=DURATION:PT1H
X-Robots-Tag:noindex
X-PUBLISHED-TTL:PT1H
BEGIN:VTIMEZONE
TZID:UTC
BEGIN:STANDARD
TZOFFSETFROM:+0000
TZOFFSETTO:+0000
TZNAME:UTC
DTSTART:20180101T000000
END:STANDARD
END:VTIMEZONE
BEGIN:VEVENT
DTSTART;TZID=UTC:20190922T130000
DTEND;TZID=UTC:20190922T163000
DTSTAMP:20260425T121737
CREATED:20190830T182629Z
LAST-MODIFIED:20190830T182629Z
UID:9347-1569157200-1569169800@www.ctconventions.com
SUMMARY:Hartford Girls Rock!
DESCRIPTION:Hartford Girls Rock! is an annual banquet designed to celebrate\, inspire\, empower\, and honor young women of the Greater Hartford community. In its sixth year\, Hartford Girls Rock! continues to celebrate the exemplary academic achievement\, leadership\, innovation\, and civic engagement of Hartford’s best and brightest. Our celebrity guest for 2019 is Oscar-Winning Costume Designer from the movie Black Panther\, Ruth Carter.
URL:https://www.ctconventions.com/event/hartford-girls-rock/
LOCATION:Connecticut Convention Center\, 100 Columbus Blvd\, Hartford\, CT\, 06103\, United States
CATEGORIES:Banquet
ATTACH;FMTTYPE=image/jpeg:https://www.ctconventions.com/wp-content/uploads/2019/08/Ruth-E-Carter-headshot252x262.jpg
END:VEVENT
END:VCALENDAR